BEGIN:VCALENDAR
VERSION:2.0
PRODID:-//Bloomfield Main Street - ECPv6.15.20//NONSGML v1.0//EN
CALSCALE:GREGORIAN
METHOD:PUBLISH
X-ORIGINAL-URL:https://bloomfieldmainstreet.com
X-WR-CALDESC:Events for Bloomfield Main Street
REFRESH-INTERVAL;VALUE=DURATION:PT1H
X-Robots-Tag:noindex
X-PUBLISHED-TTL:PT1H
BEGIN:VTIMEZONE
TZID:America/Chicago
BEGIN:DAYLIGHT
TZOFFSETFROM:-0600
TZOFFSETTO:-0500
TZNAME:CDT
DTSTART:20210314T080000
END:DAYLIGHT
BEGIN:STANDARD
TZOFFSETFROM:-0500
TZOFFSETTO:-0600
TZNAME:CST
DTSTART:20211107T070000
END:STANDARD
BEGIN:DAYLIGHT
TZOFFSETFROM:-0600
TZOFFSETTO:-0500
TZNAME:CDT
DTSTART:20220313T080000
END:DAYLIGHT
BEGIN:STANDARD
TZOFFSETFROM:-0500
TZOFFSETTO:-0600
TZNAME:CST
DTSTART:20221106T070000
END:STANDARD
BEGIN:DAYLIGHT
TZOFFSETFROM:-0600
TZOFFSETTO:-0500
TZNAME:CDT
DTSTART:20230312T080000
END:DAYLIGHT
BEGIN:STANDARD
TZOFFSETFROM:-0500
TZOFFSETTO:-0600
TZNAME:CST
DTSTART:20231105T070000
END:STANDARD
END:VTIMEZONE
BEGIN:VEVENT
DTSTART;TZID=America/Chicago:20221112T090000
DTEND;TZID=America/Chicago:20221112T120000
DTSTAMP:20260420T152528
CREATED:20221103T170737Z
LAST-MODIFIED:20221103T170737Z
UID:4119-1668243600-1668254400@bloomfieldmainstreet.com
SUMMARY:Indoor Farmers' Market
DESCRIPTION:2022 Indoor Farmers’ Market held at the American Legion upstairs from 9 am to 12 pm. The market will offer baked goods\, eggs\, crafts and more! Stop in and support our local market the second Saturday of the month November to February!
URL:https://bloomfieldmainstreet.com/event/indoor-farmers-market/
ATTACH;FMTTYPE=image/png:https://bloomfieldmainstreet.com/wp-content/uploads/2022/11/Farmers-Market-11.png
END:VEVENT
END:VCALENDAR