BEGIN:VCALENDAR
VERSION:2.0
PRODID:-//Bloomfield Main Street - ECPv6.15.20//NONSGML v1.0//EN
CALSCALE:GREGORIAN
METHOD:PUBLISH
X-ORIGINAL-URL:https://bloomfieldmainstreet.com
X-WR-CALDESC:Events for Bloomfield Main Street
REFRESH-INTERVAL;VALUE=DURATION:PT1H
X-Robots-Tag:noindex
X-PUBLISHED-TTL:PT1H
BEGIN:VTIMEZONE
TZID:America/Chicago
BEGIN:DAYLIGHT
TZOFFSETFROM:-0600
TZOFFSETTO:-0500
TZNAME:CDT
DTSTART:20210314T080000
END:DAYLIGHT
BEGIN:STANDARD
TZOFFSETFROM:-0500
TZOFFSETTO:-0600
TZNAME:CST
DTSTART:20211107T070000
END:STANDARD
BEGIN:DAYLIGHT
TZOFFSETFROM:-0600
TZOFFSETTO:-0500
TZNAME:CDT
DTSTART:20220313T080000
END:DAYLIGHT
BEGIN:STANDARD
TZOFFSETFROM:-0500
TZOFFSETTO:-0600
TZNAME:CST
DTSTART:20221106T070000
END:STANDARD
BEGIN:DAYLIGHT
TZOFFSETFROM:-0600
TZOFFSETTO:-0500
TZNAME:CDT
DTSTART:20230312T080000
END:DAYLIGHT
BEGIN:STANDARD
TZOFFSETFROM:-0500
TZOFFSETTO:-0600
TZNAME:CST
DTSTART:20231105T070000
END:STANDARD
END:VTIMEZONE
BEGIN:VEVENT
DTSTART;VALUE=DATE:20221201
DTEND;VALUE=DATE:20221204
DTSTAMP:20260420T013222
CREATED:20220818T134827Z
LAST-MODIFIED:20221103T165823Z
UID:3831-1669852800-1670111999@bloomfieldmainstreet.com
SUMMARY:Hometown Christmas Celebration
DESCRIPTION:Parade\, Festival of Trees\, Ladies Night\, Christmas Movie\, Santa House and Ugly Sweater 5k
URL:https://bloomfieldmainstreet.com/event/hometown-christmas-celebration/
LOCATION:Downtown Bloomfield\, 100 Courthouse Sq Lot 9\, Bloomfield\, IA\, 52537\, United States
ATTACH;FMTTYPE=image/jpeg:https://bloomfieldmainstreet.com/wp-content/uploads/2022/08/309504351_1065604757464284_2157419926731447012_n.jpg
END:VEVENT
BEGIN:VEVENT
DTSTART;TZID=America/Chicago:20220922T130000
DTEND;TZID=America/Chicago:20220922T140000
DTSTAMP:20260420T013222
CREATED:20220920T134531Z
LAST-MODIFIED:20240507T155648Z
UID:3990-1663851600-1663855200@bloomfieldmainstreet.com
SUMMARY:Community Connections- Bloomfield's Hometown Radio 106.9 FM
DESCRIPTION:
URL:https://bloomfieldmainstreet.com/event/community-connections-bloomfields-hometown-radio-106-9-fm/
LOCATION:Bloomfield Main Street Office\, 101 E. Franklin Street\, Bloomfield\, IA\, 52537\, United States
ATTACH;FMTTYPE=image/png:https://bloomfieldmainstreet.com/wp-content/uploads/2022/09/Community-Connections.png
END:VEVENT
BEGIN:VEVENT
DTSTART;TZID=America/Chicago:20220922T130000
DTEND;TZID=America/Chicago:20220922T140000
DTSTAMP:20260420T013222
CREATED:20220920T134531Z
LAST-MODIFIED:20240507T155648Z
UID:3990-1663851600-1663855200@bloomfieldmainstreet.com
SUMMARY:Community Connections- Bloomfield's Hometown Radio 106.9 FM
DESCRIPTION:
URL:https://bloomfieldmainstreet.com/event/community-connections-bloomfields-hometown-radio-106-9-fm/
LOCATION:Bloomfield Main Street Office\, 101 E. Franklin Street\, Bloomfield\, IA\, 52537\, United States
ATTACH;FMTTYPE=image/png:https://bloomfieldmainstreet.com/wp-content/uploads/2022/09/Community-Connections.png
END:VEVENT
BEGIN:VEVENT
DTSTART;VALUE=DATE:20221112
DTEND;VALUE=DATE:20221113
DTSTAMP:20260420T013222
CREATED:20221108T162358Z
LAST-MODIFIED:20221111T161722Z
UID:4133-1668211200-1668297599@bloomfieldmainstreet.com
SUMMARY:Shop Local Saturday
DESCRIPTION:Come shop Bloomfield’s local businesses in the downtown! This event will happen the second Saturday of the month in conjunction with the Indoor Farmers’ Market. Shop the participating businesses\, turn in your receipt for a punch\, fill your card\, and get 15% off of a regular price item at the store of your choice! We have a lot to offer in Bloomfield\, take time to check it out!!
URL:https://bloomfieldmainstreet.com/event/shop-local-saturday/
LOCATION:IA
ATTACH;FMTTYPE=image/png:https://bloomfieldmainstreet.com/wp-content/uploads/2022/11/Shop-Local-Bloomfield-Bookmark.png
END:VEVENT
BEGIN:VEVENT
DTSTART;TZID=America/Chicago:20221210T090000
DTEND;TZID=America/Chicago:20221210T120000
DTSTAMP:20260420T013222
CREATED:20221108T153823Z
LAST-MODIFIED:20221108T153823Z
UID:4122-1670662800-1670673600@bloomfieldmainstreet.com
SUMMARY:Indoor Farmers' Market
DESCRIPTION:2022 Indoor Farmers’ Market held at the American Legion upstairs from 9 am to 12 pm. The market will offer baked goods\, eggs\, crafts and more! Stop in and support our local market the second Saturday of the month November to February!
URL:https://bloomfieldmainstreet.com/event/indoor-farmers-market-2/
LOCATION:IA
ATTACH;FMTTYPE=image/png:https://bloomfieldmainstreet.com/wp-content/uploads/2022/11/Farmers-Market-11.png
END:VEVENT
BEGIN:VEVENT
DTSTART;TZID=America/Chicago:20221210T180000
DTEND;TZID=America/Chicago:20221210T200000
DTSTAMP:20260420T013222
CREATED:20221111T161142Z
LAST-MODIFIED:20221111T161142Z
UID:4185-1670695200-1670702400@bloomfieldmainstreet.com
SUMMARY:Rockin for Rainbows Christmas Jam
DESCRIPTION:Celebrate the season with us! Our classrooms will share a program and Kingdom Calling will share lots of our favorite Christmas music! Help us raise funds for scholarships and daily expenses!
URL:https://bloomfieldmainstreet.com/event/rockin-for-rainbows-christmas-jam/
LOCATION:Bloomfield United Methodist Church\, 401 E North Street\, Bloomfield\, IA\, 52537\, United States
ORGANIZER;CN="Rainbows and Friends Christian Preschool and Childcare":MAILTO:r.friends1213@gmail.com
END:VEVENT
BEGIN:VEVENT
DTSTART;TZID=America/Chicago:20220922T130000
DTEND;TZID=America/Chicago:20220922T140000
DTSTAMP:20260420T013222
CREATED:20220920T134531Z
LAST-MODIFIED:20240507T155648Z
UID:3990-1663851600-1663855200@bloomfieldmainstreet.com
SUMMARY:Community Connections- Bloomfield's Hometown Radio 106.9 FM
DESCRIPTION:
URL:https://bloomfieldmainstreet.com/event/community-connections-bloomfields-hometown-radio-106-9-fm/
LOCATION:Bloomfield Main Street Office\, 101 E. Franklin Street\, Bloomfield\, IA\, 52537\, United States
ATTACH;FMTTYPE=image/png:https://bloomfieldmainstreet.com/wp-content/uploads/2022/09/Community-Connections.png
END:VEVENT
BEGIN:VEVENT
DTSTART;TZID=America/Chicago:20220922T130000
DTEND;TZID=America/Chicago:20220922T140000
DTSTAMP:20260420T013222
CREATED:20220920T134531Z
LAST-MODIFIED:20240507T155648Z
UID:3990-1663851600-1663855200@bloomfieldmainstreet.com
SUMMARY:Community Connections- Bloomfield's Hometown Radio 106.9 FM
DESCRIPTION:
URL:https://bloomfieldmainstreet.com/event/community-connections-bloomfields-hometown-radio-106-9-fm/
LOCATION:Bloomfield Main Street Office\, 101 E. Franklin Street\, Bloomfield\, IA\, 52537\, United States
ATTACH;FMTTYPE=image/png:https://bloomfieldmainstreet.com/wp-content/uploads/2022/09/Community-Connections.png
END:VEVENT
BEGIN:VEVENT
DTSTART;TZID=America/Chicago:20220922T130000
DTEND;TZID=America/Chicago:20220922T140000
DTSTAMP:20260420T013222
CREATED:20220920T134531Z
LAST-MODIFIED:20240507T155648Z
UID:3990-1663851600-1663855200@bloomfieldmainstreet.com
SUMMARY:Community Connections- Bloomfield's Hometown Radio 106.9 FM
DESCRIPTION:
URL:https://bloomfieldmainstreet.com/event/community-connections-bloomfields-hometown-radio-106-9-fm/
LOCATION:Bloomfield Main Street Office\, 101 E. Franklin Street\, Bloomfield\, IA\, 52537\, United States
ATTACH;FMTTYPE=image/png:https://bloomfieldmainstreet.com/wp-content/uploads/2022/09/Community-Connections.png
END:VEVENT
END:VCALENDAR