BEGIN:VCALENDAR
VERSION:2.0
PRODID:-//Bloomfield Main Street - ECPv6.15.20//NONSGML v1.0//EN
CALSCALE:GREGORIAN
METHOD:PUBLISH
X-ORIGINAL-URL:https://bloomfieldmainstreet.com
X-WR-CALDESC:Events for Bloomfield Main Street
REFRESH-INTERVAL;VALUE=DURATION:PT1H
X-Robots-Tag:noindex
X-PUBLISHED-TTL:PT1H
BEGIN:VTIMEZONE
TZID:America/Chicago
BEGIN:DAYLIGHT
TZOFFSETFROM:-0600
TZOFFSETTO:-0500
TZNAME:CDT
DTSTART:20210314T080000
END:DAYLIGHT
BEGIN:STANDARD
TZOFFSETFROM:-0500
TZOFFSETTO:-0600
TZNAME:CST
DTSTART:20211107T070000
END:STANDARD
BEGIN:DAYLIGHT
TZOFFSETFROM:-0600
TZOFFSETTO:-0500
TZNAME:CDT
DTSTART:20220313T080000
END:DAYLIGHT
BEGIN:STANDARD
TZOFFSETFROM:-0500
TZOFFSETTO:-0600
TZNAME:CST
DTSTART:20221106T070000
END:STANDARD
BEGIN:DAYLIGHT
TZOFFSETFROM:-0600
TZOFFSETTO:-0500
TZNAME:CDT
DTSTART:20230312T080000
END:DAYLIGHT
BEGIN:STANDARD
TZOFFSETFROM:-0500
TZOFFSETTO:-0600
TZNAME:CST
DTSTART:20231105T070000
END:STANDARD
BEGIN:DAYLIGHT
TZOFFSETFROM:-0600
TZOFFSETTO:-0500
TZNAME:CDT
DTSTART:20240310T080000
END:DAYLIGHT
BEGIN:STANDARD
TZOFFSETFROM:-0500
TZOFFSETTO:-0600
TZNAME:CST
DTSTART:20241103T070000
END:STANDARD
END:VTIMEZONE
BEGIN:VEVENT
DTSTART;TZID=America/Chicago:20220922T130000
DTEND;TZID=America/Chicago:20220922T140000
DTSTAMP:20260421T001700
CREATED:20220920T134531Z
LAST-MODIFIED:20240507T155648Z
UID:3990-1663851600-1663855200@bloomfieldmainstreet.com
SUMMARY:Community Connections- Bloomfield's Hometown Radio 106.9 FM
DESCRIPTION:
URL:https://bloomfieldmainstreet.com/event/community-connections-bloomfields-hometown-radio-106-9-fm/
LOCATION:Bloomfield Main Street Office\, 101 E. Franklin Street\, Bloomfield\, IA\, 52537\, United States
ATTACH;FMTTYPE=image/png:https://bloomfieldmainstreet.com/wp-content/uploads/2022/09/Community-Connections.png
END:VEVENT
BEGIN:VEVENT
DTSTART;TZID=America/Chicago:20220922T130000
DTEND;TZID=America/Chicago:20220922T140000
DTSTAMP:20260421T001700
CREATED:20220920T134531Z
LAST-MODIFIED:20240507T155648Z
UID:3990-1663851600-1663855200@bloomfieldmainstreet.com
SUMMARY:Community Connections- Bloomfield's Hometown Radio 106.9 FM
DESCRIPTION:
URL:https://bloomfieldmainstreet.com/event/community-connections-bloomfields-hometown-radio-106-9-fm/
LOCATION:Bloomfield Main Street Office\, 101 E. Franklin Street\, Bloomfield\, IA\, 52537\, United States
ATTACH;FMTTYPE=image/png:https://bloomfieldmainstreet.com/wp-content/uploads/2022/09/Community-Connections.png
END:VEVENT
BEGIN:VEVENT
DTSTART;TZID=America/Chicago:20230527T090000
DTEND;TZID=America/Chicago:20230527T120000
DTSTAMP:20260421T001700
CREATED:20230124T195214Z
LAST-MODIFIED:20230124T195214Z
UID:4284-1685178000-1685188800@bloomfieldmainstreet.com
SUMMARY:Bloomfield Farmers' Market
DESCRIPTION:
URL:https://bloomfieldmainstreet.com/event/bloomfield-farmers-market/
LOCATION:IA
ATTACH;FMTTYPE=image/png:https://bloomfieldmainstreet.com/wp-content/uploads/2022/08/Farmers-3-min.png
ORGANIZER;CN="Bloomfield Farmer's Market":MAILTO:jen@bloomfieldmainstreet.com
END:VEVENT
BEGIN:VEVENT
DTSTART;VALUE=DATE:20230601
DTEND;VALUE=DATE:20230604
DTSTAMP:20260421T001700
CREATED:20230531T200952Z
LAST-MODIFIED:20230531T200952Z
UID:4459-1685577600-1685836799@bloomfieldmainstreet.com
SUMMARY:Bloomfield City Wide Garage Sales
DESCRIPTION:
URL:https://bloomfieldmainstreet.com/event/bloomfield-city-wide-garage-sales/
LOCATION:IA
END:VEVENT
BEGIN:VEVENT
DTSTART;TZID=America/Chicago:20230105T081500
DTEND;TZID=America/Chicago:20230105T090000
DTSTAMP:20260421T001700
CREATED:20230104T153528Z
LAST-MODIFIED:20240506T202218Z
UID:4243-1672906500-1672909200@bloomfieldmainstreet.com
SUMMARY:Experience Main Street Committee Meeting
DESCRIPTION:
URL:https://bloomfieldmainstreet.com/event/shop-main-street-committee-meeting/
LOCATION:IA
END:VEVENT
BEGIN:VEVENT
DTSTART;TZID=America/Chicago:20220922T130000
DTEND;TZID=America/Chicago:20220922T140000
DTSTAMP:20260421T001700
CREATED:20220920T134531Z
LAST-MODIFIED:20240507T155648Z
UID:3990-1663851600-1663855200@bloomfieldmainstreet.com
SUMMARY:Community Connections- Bloomfield's Hometown Radio 106.9 FM
DESCRIPTION:
URL:https://bloomfieldmainstreet.com/event/community-connections-bloomfields-hometown-radio-106-9-fm/
LOCATION:Bloomfield Main Street Office\, 101 E. Franklin Street\, Bloomfield\, IA\, 52537\, United States
ATTACH;FMTTYPE=image/png:https://bloomfieldmainstreet.com/wp-content/uploads/2022/09/Community-Connections.png
END:VEVENT
BEGIN:VEVENT
DTSTART;TZID=America/Chicago:20230603T080000
DTEND;TZID=America/Chicago:20230603T110000
DTSTAMP:20260421T001700
CREATED:20230531T201135Z
LAST-MODIFIED:20230531T201135Z
UID:4461-1685779200-1685790000@bloomfieldmainstreet.com
SUMMARY:Look to the Stars Foundation - 5K run/walk
DESCRIPTION:Located in Pulaski Iowa
URL:https://bloomfieldmainstreet.com/event/look-to-the-stars-foundation-5k-run-walk/
LOCATION:IA
END:VEVENT
BEGIN:VEVENT
DTSTART;TZID=America/Chicago:20230527T090000
DTEND;TZID=America/Chicago:20230527T120000
DTSTAMP:20260421T001700
CREATED:20230124T195214Z
LAST-MODIFIED:20230124T195214Z
UID:4284-1685178000-1685188800@bloomfieldmainstreet.com
SUMMARY:Bloomfield Farmers' Market
DESCRIPTION:
URL:https://bloomfieldmainstreet.com/event/bloomfield-farmers-market/
LOCATION:IA
ATTACH;FMTTYPE=image/png:https://bloomfieldmainstreet.com/wp-content/uploads/2022/08/Farmers-3-min.png
ORGANIZER;CN="Bloomfield Farmer's Market":MAILTO:jen@bloomfieldmainstreet.com
END:VEVENT
BEGIN:VEVENT
DTSTART;TZID=America/Chicago:20220922T130000
DTEND;TZID=America/Chicago:20220922T140000
DTSTAMP:20260421T001700
CREATED:20220920T134531Z
LAST-MODIFIED:20240507T155648Z
UID:3990-1663851600-1663855200@bloomfieldmainstreet.com
SUMMARY:Community Connections- Bloomfield's Hometown Radio 106.9 FM
DESCRIPTION:
URL:https://bloomfieldmainstreet.com/event/community-connections-bloomfields-hometown-radio-106-9-fm/
LOCATION:Bloomfield Main Street Office\, 101 E. Franklin Street\, Bloomfield\, IA\, 52537\, United States
ATTACH;FMTTYPE=image/png:https://bloomfieldmainstreet.com/wp-content/uploads/2022/09/Community-Connections.png
END:VEVENT
BEGIN:VEVENT
DTSTART;TZID=America/Chicago:20230527T090000
DTEND;TZID=America/Chicago:20230527T120000
DTSTAMP:20260421T001700
CREATED:20230124T195214Z
LAST-MODIFIED:20230124T195214Z
UID:4284-1685178000-1685188800@bloomfieldmainstreet.com
SUMMARY:Bloomfield Farmers' Market
DESCRIPTION:
URL:https://bloomfieldmainstreet.com/event/bloomfield-farmers-market/
LOCATION:IA
ATTACH;FMTTYPE=image/png:https://bloomfieldmainstreet.com/wp-content/uploads/2022/08/Farmers-3-min.png
ORGANIZER;CN="Bloomfield Farmer's Market":MAILTO:jen@bloomfieldmainstreet.com
END:VEVENT
BEGIN:VEVENT
DTSTART;TZID=America/Chicago:20230613T170000
DTEND;TZID=America/Chicago:20230613T190000
DTSTAMP:20260421T001700
CREATED:20230124T200744Z
LAST-MODIFIED:20230124T200744Z
UID:4290-1686675600-1686682800@bloomfieldmainstreet.com
SUMMARY:Bloomfield Farmers' Market
DESCRIPTION:
URL:https://bloomfieldmainstreet.com/event/bloomfield-farmers-market-2/
LOCATION:Bloomfield Courtyard\, 100 Courthouse Sq Lot 9\, Bloomfield\, 52537\, United States
ATTACH;FMTTYPE=image/png:https://bloomfieldmainstreet.com/wp-content/uploads/2022/08/Farmers-3-min.png
ORGANIZER;CN="Bloomfield Farmer's Market":MAILTO:jen@bloomfieldmainstreet.com
END:VEVENT
BEGIN:VEVENT
DTSTART;TZID=America/Chicago:20220922T130000
DTEND;TZID=America/Chicago:20220922T140000
DTSTAMP:20260421T001700
CREATED:20220920T134531Z
LAST-MODIFIED:20240507T155648Z
UID:3990-1663851600-1663855200@bloomfieldmainstreet.com
SUMMARY:Community Connections- Bloomfield's Hometown Radio 106.9 FM
DESCRIPTION:
URL:https://bloomfieldmainstreet.com/event/community-connections-bloomfields-hometown-radio-106-9-fm/
LOCATION:Bloomfield Main Street Office\, 101 E. Franklin Street\, Bloomfield\, IA\, 52537\, United States
ATTACH;FMTTYPE=image/png:https://bloomfieldmainstreet.com/wp-content/uploads/2022/09/Community-Connections.png
END:VEVENT
BEGIN:VEVENT
DTSTART;TZID=America/Chicago:20230527T090000
DTEND;TZID=America/Chicago:20230527T120000
DTSTAMP:20260421T001700
CREATED:20230124T195214Z
LAST-MODIFIED:20230124T195214Z
UID:4284-1685178000-1685188800@bloomfieldmainstreet.com
SUMMARY:Bloomfield Farmers' Market
DESCRIPTION:
URL:https://bloomfieldmainstreet.com/event/bloomfield-farmers-market/
LOCATION:IA
ATTACH;FMTTYPE=image/png:https://bloomfieldmainstreet.com/wp-content/uploads/2022/08/Farmers-3-min.png
ORGANIZER;CN="Bloomfield Farmer's Market":MAILTO:jen@bloomfieldmainstreet.com
END:VEVENT
BEGIN:VEVENT
DTSTART;TZID=America/Chicago:20220922T130000
DTEND;TZID=America/Chicago:20220922T140000
DTSTAMP:20260421T001700
CREATED:20220920T134531Z
LAST-MODIFIED:20240507T155648Z
UID:3990-1663851600-1663855200@bloomfieldmainstreet.com
SUMMARY:Community Connections- Bloomfield's Hometown Radio 106.9 FM
DESCRIPTION:
URL:https://bloomfieldmainstreet.com/event/community-connections-bloomfields-hometown-radio-106-9-fm/
LOCATION:Bloomfield Main Street Office\, 101 E. Franklin Street\, Bloomfield\, IA\, 52537\, United States
ATTACH;FMTTYPE=image/png:https://bloomfieldmainstreet.com/wp-content/uploads/2022/09/Community-Connections.png
END:VEVENT
BEGIN:VEVENT
DTSTART;TZID=America/Chicago:20230623T193000
DTEND;TZID=America/Chicago:20230623T213000
DTSTAMP:20260421T001700
CREATED:20230124T202428Z
LAST-MODIFIED:20230124T202428Z
UID:4293-1687548600-1687555800@bloomfieldmainstreet.com
SUMMARY:Outdoor Movie Night
DESCRIPTION:
URL:https://bloomfieldmainstreet.com/event/outdoor-movie-night/
LOCATION:IA
ATTACH;FMTTYPE=image/png:https://bloomfieldmainstreet.com/wp-content/uploads/2022/09/Movie-Night.png
END:VEVENT
BEGIN:VEVENT
DTSTART;VALUE=DATE:20230624
DTEND;VALUE=DATE:20230625
DTSTAMP:20260421T001700
CREATED:20221111T162551Z
LAST-MODIFIED:20230515T145003Z
UID:4193-1687564800-1687651199@bloomfieldmainstreet.com
SUMMARY:Hairy Nation Days
DESCRIPTION:Hairy Nation Days is an event organized to happen in the month of June. Hairy Nation is what our community was called when the white man came to the area.  The name is directly related with our history. We have several events happening throughout the day including: a 5k\, stage entertainment\, beer garden\, food trucks\, farmers market\, kids games\, and so much more!
URL:https://bloomfieldmainstreet.com/event/hairy-nation-days/
LOCATION:IA
ATTACH;FMTTYPE=image/png:https://bloomfieldmainstreet.com/wp-content/uploads/2022/11/Screenshot-2023-05-15-094832.png
END:VEVENT
BEGIN:VEVENT
DTSTART;TZID=America/Chicago:20230527T090000
DTEND;TZID=America/Chicago:20230527T120000
DTSTAMP:20260421T001700
CREATED:20230124T195214Z
LAST-MODIFIED:20230124T195214Z
UID:4284-1685178000-1685188800@bloomfieldmainstreet.com
SUMMARY:Bloomfield Farmers' Market
DESCRIPTION:
URL:https://bloomfieldmainstreet.com/event/bloomfield-farmers-market/
LOCATION:IA
ATTACH;FMTTYPE=image/png:https://bloomfieldmainstreet.com/wp-content/uploads/2022/08/Farmers-3-min.png
ORGANIZER;CN="Bloomfield Farmer's Market":MAILTO:jen@bloomfieldmainstreet.com
END:VEVENT
BEGIN:VEVENT
DTSTART;TZID=America/Chicago:20220922T130000
DTEND;TZID=America/Chicago:20220922T140000
DTSTAMP:20260421T001700
CREATED:20220920T134531Z
LAST-MODIFIED:20240507T155648Z
UID:3990-1663851600-1663855200@bloomfieldmainstreet.com
SUMMARY:Community Connections- Bloomfield's Hometown Radio 106.9 FM
DESCRIPTION:
URL:https://bloomfieldmainstreet.com/event/community-connections-bloomfields-hometown-radio-106-9-fm/
LOCATION:Bloomfield Main Street Office\, 101 E. Franklin Street\, Bloomfield\, IA\, 52537\, United States
ATTACH;FMTTYPE=image/png:https://bloomfieldmainstreet.com/wp-content/uploads/2022/09/Community-Connections.png
END:VEVENT
BEGIN:VEVENT
DTSTART;TZID=America/Chicago:20230527T090000
DTEND;TZID=America/Chicago:20230527T120000
DTSTAMP:20260421T001700
CREATED:20230124T195214Z
LAST-MODIFIED:20230124T195214Z
UID:4284-1685178000-1685188800@bloomfieldmainstreet.com
SUMMARY:Bloomfield Farmers' Market
DESCRIPTION:
URL:https://bloomfieldmainstreet.com/event/bloomfield-farmers-market/
LOCATION:IA
ATTACH;FMTTYPE=image/png:https://bloomfieldmainstreet.com/wp-content/uploads/2022/08/Farmers-3-min.png
ORGANIZER;CN="Bloomfield Farmer's Market":MAILTO:jen@bloomfieldmainstreet.com
END:VEVENT
BEGIN:VEVENT
DTSTART;TZID=America/Chicago:20230105T081500
DTEND;TZID=America/Chicago:20230105T090000
DTSTAMP:20260421T001700
CREATED:20230104T153528Z
LAST-MODIFIED:20240506T202218Z
UID:4243-1672906500-1672909200@bloomfieldmainstreet.com
SUMMARY:Experience Main Street Committee Meeting
DESCRIPTION:
URL:https://bloomfieldmainstreet.com/event/shop-main-street-committee-meeting/
LOCATION:IA
END:VEVENT
BEGIN:VEVENT
DTSTART;TZID=America/Chicago:20220922T130000
DTEND;TZID=America/Chicago:20220922T140000
DTSTAMP:20260421T001700
CREATED:20220920T134531Z
LAST-MODIFIED:20240507T155648Z
UID:3990-1663851600-1663855200@bloomfieldmainstreet.com
SUMMARY:Community Connections- Bloomfield's Hometown Radio 106.9 FM
DESCRIPTION:
URL:https://bloomfieldmainstreet.com/event/community-connections-bloomfields-hometown-radio-106-9-fm/
LOCATION:Bloomfield Main Street Office\, 101 E. Franklin Street\, Bloomfield\, IA\, 52537\, United States
ATTACH;FMTTYPE=image/png:https://bloomfieldmainstreet.com/wp-content/uploads/2022/09/Community-Connections.png
END:VEVENT
BEGIN:VEVENT
DTSTART;TZID=America/Chicago:20230527T090000
DTEND;TZID=America/Chicago:20230527T120000
DTSTAMP:20260421T001700
CREATED:20230124T195214Z
LAST-MODIFIED:20230124T195214Z
UID:4284-1685178000-1685188800@bloomfieldmainstreet.com
SUMMARY:Bloomfield Farmers' Market
DESCRIPTION:
URL:https://bloomfieldmainstreet.com/event/bloomfield-farmers-market/
LOCATION:IA
ATTACH;FMTTYPE=image/png:https://bloomfieldmainstreet.com/wp-content/uploads/2022/08/Farmers-3-min.png
ORGANIZER;CN="Bloomfield Farmer's Market":MAILTO:jen@bloomfieldmainstreet.com
END:VEVENT
BEGIN:VEVENT
DTSTART;TZID=America/Chicago:20230613T170000
DTEND;TZID=America/Chicago:20230613T190000
DTSTAMP:20260421T001700
CREATED:20230124T200744Z
LAST-MODIFIED:20230124T200744Z
UID:4290-1686675600-1686682800@bloomfieldmainstreet.com
SUMMARY:Bloomfield Farmers' Market
DESCRIPTION:
URL:https://bloomfieldmainstreet.com/event/bloomfield-farmers-market-2/
LOCATION:Bloomfield Courtyard\, 100 Courthouse Sq Lot 9\, Bloomfield\, 52537\, United States
ATTACH;FMTTYPE=image/png:https://bloomfieldmainstreet.com/wp-content/uploads/2022/08/Farmers-3-min.png
ORGANIZER;CN="Bloomfield Farmer's Market":MAILTO:jen@bloomfieldmainstreet.com
END:VEVENT
BEGIN:VEVENT
DTSTART;TZID=America/Chicago:20220922T130000
DTEND;TZID=America/Chicago:20220922T140000
DTSTAMP:20260421T001700
CREATED:20220920T134531Z
LAST-MODIFIED:20240507T155648Z
UID:3990-1663851600-1663855200@bloomfieldmainstreet.com
SUMMARY:Community Connections- Bloomfield's Hometown Radio 106.9 FM
DESCRIPTION:
URL:https://bloomfieldmainstreet.com/event/community-connections-bloomfields-hometown-radio-106-9-fm/
LOCATION:Bloomfield Main Street Office\, 101 E. Franklin Street\, Bloomfield\, IA\, 52537\, United States
ATTACH;FMTTYPE=image/png:https://bloomfieldmainstreet.com/wp-content/uploads/2022/09/Community-Connections.png
END:VEVENT
BEGIN:VEVENT
DTSTART;TZID=America/Chicago:20230527T090000
DTEND;TZID=America/Chicago:20230527T120000
DTSTAMP:20260421T001700
CREATED:20230124T195214Z
LAST-MODIFIED:20230124T195214Z
UID:4284-1685178000-1685188800@bloomfieldmainstreet.com
SUMMARY:Bloomfield Farmers' Market
DESCRIPTION:
URL:https://bloomfieldmainstreet.com/event/bloomfield-farmers-market/
LOCATION:IA
ATTACH;FMTTYPE=image/png:https://bloomfieldmainstreet.com/wp-content/uploads/2022/08/Farmers-3-min.png
ORGANIZER;CN="Bloomfield Farmer's Market":MAILTO:jen@bloomfieldmainstreet.com
END:VEVENT
BEGIN:VEVENT
DTSTART;TZID=America/Chicago:20220922T130000
DTEND;TZID=America/Chicago:20220922T140000
DTSTAMP:20260421T001700
CREATED:20220920T134531Z
LAST-MODIFIED:20240507T155648Z
UID:3990-1663851600-1663855200@bloomfieldmainstreet.com
SUMMARY:Community Connections- Bloomfield's Hometown Radio 106.9 FM
DESCRIPTION:
URL:https://bloomfieldmainstreet.com/event/community-connections-bloomfields-hometown-radio-106-9-fm/
LOCATION:Bloomfield Main Street Office\, 101 E. Franklin Street\, Bloomfield\, IA\, 52537\, United States
ATTACH;FMTTYPE=image/png:https://bloomfieldmainstreet.com/wp-content/uploads/2022/09/Community-Connections.png
END:VEVENT
BEGIN:VEVENT
DTSTART;TZID=America/Chicago:20230527T090000
DTEND;TZID=America/Chicago:20230527T120000
DTSTAMP:20260421T001700
CREATED:20230124T195214Z
LAST-MODIFIED:20230124T195214Z
UID:4284-1685178000-1685188800@bloomfieldmainstreet.com
SUMMARY:Bloomfield Farmers' Market
DESCRIPTION:
URL:https://bloomfieldmainstreet.com/event/bloomfield-farmers-market/
LOCATION:IA
ATTACH;FMTTYPE=image/png:https://bloomfieldmainstreet.com/wp-content/uploads/2022/08/Farmers-3-min.png
ORGANIZER;CN="Bloomfield Farmer's Market":MAILTO:jen@bloomfieldmainstreet.com
END:VEVENT
BEGIN:VEVENT
DTSTART;TZID=America/Chicago:20220922T130000
DTEND;TZID=America/Chicago:20220922T140000
DTSTAMP:20260421T001700
CREATED:20220920T134531Z
LAST-MODIFIED:20240507T155648Z
UID:3990-1663851600-1663855200@bloomfieldmainstreet.com
SUMMARY:Community Connections- Bloomfield's Hometown Radio 106.9 FM
DESCRIPTION:
URL:https://bloomfieldmainstreet.com/event/community-connections-bloomfields-hometown-radio-106-9-fm/
LOCATION:Bloomfield Main Street Office\, 101 E. Franklin Street\, Bloomfield\, IA\, 52537\, United States
ATTACH;FMTTYPE=image/png:https://bloomfieldmainstreet.com/wp-content/uploads/2022/09/Community-Connections.png
END:VEVENT
BEGIN:VEVENT
DTSTART;TZID=America/Chicago:20230527T090000
DTEND;TZID=America/Chicago:20230527T120000
DTSTAMP:20260421T001700
CREATED:20230124T195214Z
LAST-MODIFIED:20230124T195214Z
UID:4284-1685178000-1685188800@bloomfieldmainstreet.com
SUMMARY:Bloomfield Farmers' Market
DESCRIPTION:
URL:https://bloomfieldmainstreet.com/event/bloomfield-farmers-market/
LOCATION:IA
ATTACH;FMTTYPE=image/png:https://bloomfieldmainstreet.com/wp-content/uploads/2022/08/Farmers-3-min.png
ORGANIZER;CN="Bloomfield Farmer's Market":MAILTO:jen@bloomfieldmainstreet.com
END:VEVENT
BEGIN:VEVENT
DTSTART;TZID=America/Chicago:20230105T081500
DTEND;TZID=America/Chicago:20230105T090000
DTSTAMP:20260421T001700
CREATED:20230104T153528Z
LAST-MODIFIED:20240506T202218Z
UID:4243-1672906500-1672909200@bloomfieldmainstreet.com
SUMMARY:Experience Main Street Committee Meeting
DESCRIPTION:
URL:https://bloomfieldmainstreet.com/event/shop-main-street-committee-meeting/
LOCATION:IA
END:VEVENT
END:VCALENDAR