BEGIN:VCALENDAR
VERSION:2.0
PRODID:-//Bloomfield Main Street - ECPv6.15.20//NONSGML v1.0//EN
CALSCALE:GREGORIAN
METHOD:PUBLISH
X-WR-CALNAME:Bloomfield Main Street
X-ORIGINAL-URL:https://bloomfieldmainstreet.com
X-WR-CALDESC:Events for Bloomfield Main Street
REFRESH-INTERVAL;VALUE=DURATION:PT1H
X-Robots-Tag:noindex
X-PUBLISHED-TTL:PT1H
BEGIN:VTIMEZONE
TZID:America/Chicago
BEGIN:DAYLIGHT
TZOFFSETFROM:-0600
TZOFFSETTO:-0500
TZNAME:CDT
DTSTART:20210314T080000
END:DAYLIGHT
BEGIN:STANDARD
TZOFFSETFROM:-0500
TZOFFSETTO:-0600
TZNAME:CST
DTSTART:20211107T070000
END:STANDARD
BEGIN:DAYLIGHT
TZOFFSETFROM:-0600
TZOFFSETTO:-0500
TZNAME:CDT
DTSTART:20220313T080000
END:DAYLIGHT
BEGIN:STANDARD
TZOFFSETFROM:-0500
TZOFFSETTO:-0600
TZNAME:CST
DTSTART:20221106T070000
END:STANDARD
BEGIN:DAYLIGHT
TZOFFSETFROM:-0600
TZOFFSETTO:-0500
TZNAME:CDT
DTSTART:20230312T080000
END:DAYLIGHT
BEGIN:STANDARD
TZOFFSETFROM:-0500
TZOFFSETTO:-0600
TZNAME:CST
DTSTART:20231105T070000
END:STANDARD
BEGIN:DAYLIGHT
TZOFFSETFROM:-0600
TZOFFSETTO:-0500
TZNAME:CDT
DTSTART:20240310T080000
END:DAYLIGHT
BEGIN:STANDARD
TZOFFSETFROM:-0500
TZOFFSETTO:-0600
TZNAME:CST
DTSTART:20241103T070000
END:STANDARD
END:VTIMEZONE
BEGIN:VEVENT
DTSTART;TZID=America/Chicago:20230105T081500
DTEND;TZID=America/Chicago:20230105T090000
DTSTAMP:20260420T130700
CREATED:20230104T153528Z
LAST-MODIFIED:20240506T202218Z
UID:4243-1672906500-1672909200@bloomfieldmainstreet.com
SUMMARY:Experience Main Street Committee Meeting
DESCRIPTION:
URL:https://bloomfieldmainstreet.com/event/shop-main-street-committee-meeting/
LOCATION:IA
END:VEVENT
BEGIN:VEVENT
DTSTART;TZID=America/Chicago:20220922T130000
DTEND;TZID=America/Chicago:20220922T140000
DTSTAMP:20260420T130700
CREATED:20220920T134531Z
LAST-MODIFIED:20240507T155648Z
UID:3990-1663851600-1663855200@bloomfieldmainstreet.com
SUMMARY:Community Connections- Bloomfield's Hometown Radio 106.9 FM
DESCRIPTION:
URL:https://bloomfieldmainstreet.com/event/community-connections-bloomfields-hometown-radio-106-9-fm/
LOCATION:Bloomfield Main Street Office\, 101 E. Franklin Street\, Bloomfield\, IA\, 52537\, United States
ATTACH;FMTTYPE=image/png:https://bloomfieldmainstreet.com/wp-content/uploads/2022/09/Community-Connections.png
END:VEVENT
BEGIN:VEVENT
DTSTART;TZID=America/Chicago:20230527T090000
DTEND;TZID=America/Chicago:20230527T120000
DTSTAMP:20260420T130700
CREATED:20230124T195214Z
LAST-MODIFIED:20230124T195214Z
UID:4284-1685178000-1685188800@bloomfieldmainstreet.com
SUMMARY:Bloomfield Farmers' Market
DESCRIPTION:
URL:https://bloomfieldmainstreet.com/event/bloomfield-farmers-market/
LOCATION:IA
ATTACH;FMTTYPE=image/png:https://bloomfieldmainstreet.com/wp-content/uploads/2022/08/Farmers-3-min.png
ORGANIZER;CN="Bloomfield Farmer's Market":MAILTO:jen@bloomfieldmainstreet.com
END:VEVENT
BEGIN:VEVENT
DTSTART;TZID=America/Chicago:20230613T170000
DTEND;TZID=America/Chicago:20230613T190000
DTSTAMP:20260420T130700
CREATED:20230124T200744Z
LAST-MODIFIED:20230124T200744Z
UID:4290-1686675600-1686682800@bloomfieldmainstreet.com
SUMMARY:Bloomfield Farmers' Market
DESCRIPTION:
URL:https://bloomfieldmainstreet.com/event/bloomfield-farmers-market-2/
LOCATION:Bloomfield Courtyard\, 100 Courthouse Sq Lot 9\, Bloomfield\, 52537\, United States
ATTACH;FMTTYPE=image/png:https://bloomfieldmainstreet.com/wp-content/uploads/2022/08/Farmers-3-min.png
ORGANIZER;CN="Bloomfield Farmer's Market":MAILTO:jen@bloomfieldmainstreet.com
END:VEVENT
BEGIN:VEVENT
DTSTART;TZID=America/Chicago:20220922T130000
DTEND;TZID=America/Chicago:20220922T140000
DTSTAMP:20260420T130700
CREATED:20220920T134531Z
LAST-MODIFIED:20240507T155648Z
UID:3990-1663851600-1663855200@bloomfieldmainstreet.com
SUMMARY:Community Connections- Bloomfield's Hometown Radio 106.9 FM
DESCRIPTION:
URL:https://bloomfieldmainstreet.com/event/community-connections-bloomfields-hometown-radio-106-9-fm/
LOCATION:Bloomfield Main Street Office\, 101 E. Franklin Street\, Bloomfield\, IA\, 52537\, United States
ATTACH;FMTTYPE=image/png:https://bloomfieldmainstreet.com/wp-content/uploads/2022/09/Community-Connections.png
END:VEVENT
BEGIN:VEVENT
DTSTART;TZID=America/Chicago:20230527T090000
DTEND;TZID=America/Chicago:20230527T120000
DTSTAMP:20260420T130700
CREATED:20230124T195214Z
LAST-MODIFIED:20230124T195214Z
UID:4284-1685178000-1685188800@bloomfieldmainstreet.com
SUMMARY:Bloomfield Farmers' Market
DESCRIPTION:
URL:https://bloomfieldmainstreet.com/event/bloomfield-farmers-market/
LOCATION:IA
ATTACH;FMTTYPE=image/png:https://bloomfieldmainstreet.com/wp-content/uploads/2022/08/Farmers-3-min.png
ORGANIZER;CN="Bloomfield Farmer's Market":MAILTO:jen@bloomfieldmainstreet.com
END:VEVENT
BEGIN:VEVENT
DTSTART;TZID=America/Chicago:20220922T130000
DTEND;TZID=America/Chicago:20220922T140000
DTSTAMP:20260420T130700
CREATED:20220920T134531Z
LAST-MODIFIED:20240507T155648Z
UID:3990-1663851600-1663855200@bloomfieldmainstreet.com
SUMMARY:Community Connections- Bloomfield's Hometown Radio 106.9 FM
DESCRIPTION:
URL:https://bloomfieldmainstreet.com/event/community-connections-bloomfields-hometown-radio-106-9-fm/
LOCATION:Bloomfield Main Street Office\, 101 E. Franklin Street\, Bloomfield\, IA\, 52537\, United States
ATTACH;FMTTYPE=image/png:https://bloomfieldmainstreet.com/wp-content/uploads/2022/09/Community-Connections.png
END:VEVENT
BEGIN:VEVENT
DTSTART;VALUE=DATE:20230923
DTEND;VALUE=DATE:20230924
DTSTAMP:20260420T130700
CREATED:20230124T210724Z
LAST-MODIFIED:20230802T181329Z
UID:4295-1695427200-1695513599@bloomfieldmainstreet.com
SUMMARY:Main Street Fall Festival
DESCRIPTION:
URL:https://bloomfieldmainstreet.com/event/fall-festival-and-car-show-featuring-the-great-pumpkin-bash/
LOCATION:IA
ATTACH;FMTTYPE=image/png:https://bloomfieldmainstreet.com/wp-content/uploads/2023/01/FallFestival-4C.png
END:VEVENT
BEGIN:VEVENT
DTSTART;TZID=America/Chicago:20230527T090000
DTEND;TZID=America/Chicago:20230527T120000
DTSTAMP:20260420T130700
CREATED:20230124T195214Z
LAST-MODIFIED:20230124T195214Z
UID:4284-1685178000-1685188800@bloomfieldmainstreet.com
SUMMARY:Bloomfield Farmers' Market
DESCRIPTION:
URL:https://bloomfieldmainstreet.com/event/bloomfield-farmers-market/
LOCATION:IA
ATTACH;FMTTYPE=image/png:https://bloomfieldmainstreet.com/wp-content/uploads/2022/08/Farmers-3-min.png
ORGANIZER;CN="Bloomfield Farmer's Market":MAILTO:jen@bloomfieldmainstreet.com
END:VEVENT
BEGIN:VEVENT
DTSTART;TZID=America/Chicago:20220922T130000
DTEND;TZID=America/Chicago:20220922T140000
DTSTAMP:20260420T130700
CREATED:20220920T134531Z
LAST-MODIFIED:20240507T155648Z
UID:3990-1663851600-1663855200@bloomfieldmainstreet.com
SUMMARY:Community Connections- Bloomfield's Hometown Radio 106.9 FM
DESCRIPTION:
URL:https://bloomfieldmainstreet.com/event/community-connections-bloomfields-hometown-radio-106-9-fm/
LOCATION:Bloomfield Main Street Office\, 101 E. Franklin Street\, Bloomfield\, IA\, 52537\, United States
ATTACH;FMTTYPE=image/png:https://bloomfieldmainstreet.com/wp-content/uploads/2022/09/Community-Connections.png
END:VEVENT
BEGIN:VEVENT
DTSTART;TZID=America/Chicago:20230527T090000
DTEND;TZID=America/Chicago:20230527T120000
DTSTAMP:20260420T130700
CREATED:20230124T195214Z
LAST-MODIFIED:20230124T195214Z
UID:4284-1685178000-1685188800@bloomfieldmainstreet.com
SUMMARY:Bloomfield Farmers' Market
DESCRIPTION:
URL:https://bloomfieldmainstreet.com/event/bloomfield-farmers-market/
LOCATION:IA
ATTACH;FMTTYPE=image/png:https://bloomfieldmainstreet.com/wp-content/uploads/2022/08/Farmers-3-min.png
ORGANIZER;CN="Bloomfield Farmer's Market":MAILTO:jen@bloomfieldmainstreet.com
END:VEVENT
BEGIN:VEVENT
DTSTART;TZID=America/Chicago:20230105T081500
DTEND;TZID=America/Chicago:20230105T090000
DTSTAMP:20260420T130700
CREATED:20230104T153528Z
LAST-MODIFIED:20240506T202218Z
UID:4243-1672906500-1672909200@bloomfieldmainstreet.com
SUMMARY:Experience Main Street Committee Meeting
DESCRIPTION:
URL:https://bloomfieldmainstreet.com/event/shop-main-street-committee-meeting/
LOCATION:IA
END:VEVENT
BEGIN:VEVENT
DTSTART;TZID=America/Chicago:20220922T130000
DTEND;TZID=America/Chicago:20220922T140000
DTSTAMP:20260420T130700
CREATED:20220920T134531Z
LAST-MODIFIED:20240507T155648Z
UID:3990-1663851600-1663855200@bloomfieldmainstreet.com
SUMMARY:Community Connections- Bloomfield's Hometown Radio 106.9 FM
DESCRIPTION:
URL:https://bloomfieldmainstreet.com/event/community-connections-bloomfields-hometown-radio-106-9-fm/
LOCATION:Bloomfield Main Street Office\, 101 E. Franklin Street\, Bloomfield\, IA\, 52537\, United States
ATTACH;FMTTYPE=image/png:https://bloomfieldmainstreet.com/wp-content/uploads/2022/09/Community-Connections.png
END:VEVENT
BEGIN:VEVENT
DTSTART;TZID=America/Chicago:20230527T090000
DTEND;TZID=America/Chicago:20230527T120000
DTSTAMP:20260420T130700
CREATED:20230124T195214Z
LAST-MODIFIED:20230124T195214Z
UID:4284-1685178000-1685188800@bloomfieldmainstreet.com
SUMMARY:Bloomfield Farmers' Market
DESCRIPTION:
URL:https://bloomfieldmainstreet.com/event/bloomfield-farmers-market/
LOCATION:IA
ATTACH;FMTTYPE=image/png:https://bloomfieldmainstreet.com/wp-content/uploads/2022/08/Farmers-3-min.png
ORGANIZER;CN="Bloomfield Farmer's Market":MAILTO:jen@bloomfieldmainstreet.com
END:VEVENT
BEGIN:VEVENT
DTSTART;TZID=America/Chicago:20220922T130000
DTEND;TZID=America/Chicago:20220922T140000
DTSTAMP:20260420T130700
CREATED:20220920T134531Z
LAST-MODIFIED:20240507T155648Z
UID:3990-1663851600-1663855200@bloomfieldmainstreet.com
SUMMARY:Community Connections- Bloomfield's Hometown Radio 106.9 FM
DESCRIPTION:
URL:https://bloomfieldmainstreet.com/event/community-connections-bloomfields-hometown-radio-106-9-fm/
LOCATION:Bloomfield Main Street Office\, 101 E. Franklin Street\, Bloomfield\, IA\, 52537\, United States
ATTACH;FMTTYPE=image/png:https://bloomfieldmainstreet.com/wp-content/uploads/2022/09/Community-Connections.png
END:VEVENT
BEGIN:VEVENT
DTSTART;TZID=America/Chicago:20231017T173000
DTEND;TZID=America/Chicago:20231017T190000
DTSTAMP:20260420T130700
CREATED:20230124T210857Z
LAST-MODIFIED:20231006T195911Z
UID:4298-1697563800-1697569200@bloomfieldmainstreet.com
SUMMARY:Bloomfield Main Street Annual Meeting
DESCRIPTION:
URL:https://bloomfieldmainstreet.com/event/bloomfield-main-street-annual-meeting/
LOCATION:The Quad\, 202 S Madison Street\, Bloomfield\, IA\, 52537\, United States
ATTACH;FMTTYPE=image/jpeg:https://bloomfieldmainstreet.com/wp-content/uploads/2022/11/MainStreet-4C.jpg
END:VEVENT
BEGIN:VEVENT
DTSTART;TZID=America/Chicago:20220922T130000
DTEND;TZID=America/Chicago:20220922T140000
DTSTAMP:20260420T130700
CREATED:20220920T134531Z
LAST-MODIFIED:20240507T155648Z
UID:3990-1663851600-1663855200@bloomfieldmainstreet.com
SUMMARY:Community Connections- Bloomfield's Hometown Radio 106.9 FM
DESCRIPTION:
URL:https://bloomfieldmainstreet.com/event/community-connections-bloomfields-hometown-radio-106-9-fm/
LOCATION:Bloomfield Main Street Office\, 101 E. Franklin Street\, Bloomfield\, IA\, 52537\, United States
ATTACH;FMTTYPE=image/png:https://bloomfieldmainstreet.com/wp-content/uploads/2022/09/Community-Connections.png
END:VEVENT
BEGIN:VEVENT
DTSTART;TZID=America/Chicago:20220922T130000
DTEND;TZID=America/Chicago:20220922T140000
DTSTAMP:20260420T130700
CREATED:20220920T134531Z
LAST-MODIFIED:20240507T155648Z
UID:3990-1663851600-1663855200@bloomfieldmainstreet.com
SUMMARY:Community Connections- Bloomfield's Hometown Radio 106.9 FM
DESCRIPTION:
URL:https://bloomfieldmainstreet.com/event/community-connections-bloomfields-hometown-radio-106-9-fm/
LOCATION:Bloomfield Main Street Office\, 101 E. Franklin Street\, Bloomfield\, IA\, 52537\, United States
ATTACH;FMTTYPE=image/png:https://bloomfieldmainstreet.com/wp-content/uploads/2022/09/Community-Connections.png
END:VEVENT
BEGIN:VEVENT
DTSTART;TZID=America/Chicago:20230105T081500
DTEND;TZID=America/Chicago:20230105T090000
DTSTAMP:20260420T130700
CREATED:20230104T153528Z
LAST-MODIFIED:20240506T202218Z
UID:4243-1672906500-1672909200@bloomfieldmainstreet.com
SUMMARY:Experience Main Street Committee Meeting
DESCRIPTION:
URL:https://bloomfieldmainstreet.com/event/shop-main-street-committee-meeting/
LOCATION:IA
END:VEVENT
BEGIN:VEVENT
DTSTART;TZID=America/Chicago:20220922T130000
DTEND;TZID=America/Chicago:20220922T140000
DTSTAMP:20260420T130700
CREATED:20220920T134531Z
LAST-MODIFIED:20240507T155648Z
UID:3990-1663851600-1663855200@bloomfieldmainstreet.com
SUMMARY:Community Connections- Bloomfield's Hometown Radio 106.9 FM
DESCRIPTION:
URL:https://bloomfieldmainstreet.com/event/community-connections-bloomfields-hometown-radio-106-9-fm/
LOCATION:Bloomfield Main Street Office\, 101 E. Franklin Street\, Bloomfield\, IA\, 52537\, United States
ATTACH;FMTTYPE=image/png:https://bloomfieldmainstreet.com/wp-content/uploads/2022/09/Community-Connections.png
END:VEVENT
BEGIN:VEVENT
DTSTART;TZID=America/Chicago:20231108T170000
DTEND;TZID=America/Chicago:20231108T190000
DTSTAMP:20260420T130700
CREATED:20231006T200608Z
LAST-MODIFIED:20231006T200608Z
UID:4549-1699462800-1699470000@bloomfieldmainstreet.com
SUMMARY:Grow With Google Training Seminar
DESCRIPTION:
URL:https://bloomfieldmainstreet.com/event/grow-with-google-training-seminar/
LOCATION:Bloomfield Main Street Office\, 101 E. Franklin Street\, Bloomfield\, IA\, 52537\, United States
ATTACH;FMTTYPE=image/png:https://bloomfieldmainstreet.com/wp-content/uploads/2023/10/Bloomfield-Google-Workshop-FB.png
END:VEVENT
BEGIN:VEVENT
DTSTART;TZID=America/Chicago:20220922T130000
DTEND;TZID=America/Chicago:20220922T140000
DTSTAMP:20260420T130700
CREATED:20220920T134531Z
LAST-MODIFIED:20240507T155648Z
UID:3990-1663851600-1663855200@bloomfieldmainstreet.com
SUMMARY:Community Connections- Bloomfield's Hometown Radio 106.9 FM
DESCRIPTION:
URL:https://bloomfieldmainstreet.com/event/community-connections-bloomfields-hometown-radio-106-9-fm/
LOCATION:Bloomfield Main Street Office\, 101 E. Franklin Street\, Bloomfield\, IA\, 52537\, United States
ATTACH;FMTTYPE=image/png:https://bloomfieldmainstreet.com/wp-content/uploads/2022/09/Community-Connections.png
END:VEVENT
BEGIN:VEVENT
DTSTART;TZID=America/Chicago:20220922T130000
DTEND;TZID=America/Chicago:20220922T140000
DTSTAMP:20260420T130700
CREATED:20220920T134531Z
LAST-MODIFIED:20240507T155648Z
UID:3990-1663851600-1663855200@bloomfieldmainstreet.com
SUMMARY:Community Connections- Bloomfield's Hometown Radio 106.9 FM
DESCRIPTION:
URL:https://bloomfieldmainstreet.com/event/community-connections-bloomfields-hometown-radio-106-9-fm/
LOCATION:Bloomfield Main Street Office\, 101 E. Franklin Street\, Bloomfield\, IA\, 52537\, United States
ATTACH;FMTTYPE=image/png:https://bloomfieldmainstreet.com/wp-content/uploads/2022/09/Community-Connections.png
END:VEVENT
BEGIN:VEVENT
DTSTART;TZID=America/Chicago:20220922T130000
DTEND;TZID=America/Chicago:20220922T140000
DTSTAMP:20260420T130700
CREATED:20220920T134531Z
LAST-MODIFIED:20240507T155648Z
UID:3990-1663851600-1663855200@bloomfieldmainstreet.com
SUMMARY:Community Connections- Bloomfield's Hometown Radio 106.9 FM
DESCRIPTION:
URL:https://bloomfieldmainstreet.com/event/community-connections-bloomfields-hometown-radio-106-9-fm/
LOCATION:Bloomfield Main Street Office\, 101 E. Franklin Street\, Bloomfield\, IA\, 52537\, United States
ATTACH;FMTTYPE=image/png:https://bloomfieldmainstreet.com/wp-content/uploads/2022/09/Community-Connections.png
END:VEVENT
BEGIN:VEVENT
DTSTART;TZID=America/Chicago:20231125T090000
DTEND;TZID=America/Chicago:20231125T120000
DTSTAMP:20260420T130700
CREATED:20231027T143840Z
LAST-MODIFIED:20231027T143840Z
UID:4557-1700902800-1700913600@bloomfieldmainstreet.com
SUMMARY:Indoor Bloomfield Farmers Market
DESCRIPTION:The indoor Bloomfield Farmers market will include Farmers Market vendors with baked goods\, crafts and more. This year we have also added retail vendors to the indoor market. Join us upstairs at the American Legion on the 4th Saturday of the Month!!
URL:https://bloomfieldmainstreet.com/event/indoor-bloomfield-farmers-market/
LOCATION:American Legion Bloomfield Iowa\, 211 E. Jefferson Street\, Bloomfield\, IA\, 52537\, United States
ATTACH;FMTTYPE=image/png:https://bloomfieldmainstreet.com/wp-content/uploads/2023/10/Summer-Farmers-Market-Instagram-Post-1.png
ORGANIZER;CN="Bloomfield Farmer's Market":MAILTO:jen@bloomfieldmainstreet.com
END:VEVENT
BEGIN:VEVENT
DTSTART;VALUE=DATE:20231130
DTEND;VALUE=DATE:20231203
DTSTAMP:20260420T130700
CREATED:20230124T211039Z
LAST-MODIFIED:20230124T211207Z
UID:4300-1701302400-1701561599@bloomfieldmainstreet.com
SUMMARY:Hometown Christmas Celebration
DESCRIPTION:
URL:https://bloomfieldmainstreet.com/event/hometown-christmas-celebration-2/
LOCATION:IA
ATTACH;FMTTYPE=image/jpeg:https://bloomfieldmainstreet.com/wp-content/uploads/2022/08/HometownEVENTCoverFB-e1674594713141.jpg
END:VEVENT
BEGIN:VEVENT
DTSTART;TZID=America/Chicago:20220922T130000
DTEND;TZID=America/Chicago:20220922T140000
DTSTAMP:20260420T130700
CREATED:20220920T134531Z
LAST-MODIFIED:20240507T155648Z
UID:3990-1663851600-1663855200@bloomfieldmainstreet.com
SUMMARY:Community Connections- Bloomfield's Hometown Radio 106.9 FM
DESCRIPTION:
URL:https://bloomfieldmainstreet.com/event/community-connections-bloomfields-hometown-radio-106-9-fm/
LOCATION:Bloomfield Main Street Office\, 101 E. Franklin Street\, Bloomfield\, IA\, 52537\, United States
ATTACH;FMTTYPE=image/png:https://bloomfieldmainstreet.com/wp-content/uploads/2022/09/Community-Connections.png
END:VEVENT
BEGIN:VEVENT
DTSTART;TZID=America/Chicago:20230105T081500
DTEND;TZID=America/Chicago:20230105T090000
DTSTAMP:20260420T130700
CREATED:20230104T153528Z
LAST-MODIFIED:20240506T202218Z
UID:4243-1672906500-1672909200@bloomfieldmainstreet.com
SUMMARY:Experience Main Street Committee Meeting
DESCRIPTION:
URL:https://bloomfieldmainstreet.com/event/shop-main-street-committee-meeting/
LOCATION:IA
END:VEVENT
BEGIN:VEVENT
DTSTART;TZID=America/Chicago:20220922T130000
DTEND;TZID=America/Chicago:20220922T140000
DTSTAMP:20260420T130700
CREATED:20220920T134531Z
LAST-MODIFIED:20240507T155648Z
UID:3990-1663851600-1663855200@bloomfieldmainstreet.com
SUMMARY:Community Connections- Bloomfield's Hometown Radio 106.9 FM
DESCRIPTION:
URL:https://bloomfieldmainstreet.com/event/community-connections-bloomfields-hometown-radio-106-9-fm/
LOCATION:Bloomfield Main Street Office\, 101 E. Franklin Street\, Bloomfield\, IA\, 52537\, United States
ATTACH;FMTTYPE=image/png:https://bloomfieldmainstreet.com/wp-content/uploads/2022/09/Community-Connections.png
END:VEVENT
BEGIN:VEVENT
DTSTART;TZID=America/Chicago:20220922T130000
DTEND;TZID=America/Chicago:20220922T140000
DTSTAMP:20260420T130700
CREATED:20220920T134531Z
LAST-MODIFIED:20240507T155648Z
UID:3990-1663851600-1663855200@bloomfieldmainstreet.com
SUMMARY:Community Connections- Bloomfield's Hometown Radio 106.9 FM
DESCRIPTION:
URL:https://bloomfieldmainstreet.com/event/community-connections-bloomfields-hometown-radio-106-9-fm/
LOCATION:Bloomfield Main Street Office\, 101 E. Franklin Street\, Bloomfield\, IA\, 52537\, United States
ATTACH;FMTTYPE=image/png:https://bloomfieldmainstreet.com/wp-content/uploads/2022/09/Community-Connections.png
END:VEVENT
END:VCALENDAR