BEGIN:VCALENDAR
VERSION:2.0
PRODID:-//Bloomfield Main Street - ECPv6.15.20//NONSGML v1.0//EN
CALSCALE:GREGORIAN
METHOD:PUBLISH
X-ORIGINAL-URL:https://bloomfieldmainstreet.com
X-WR-CALDESC:Events for Bloomfield Main Street
REFRESH-INTERVAL;VALUE=DURATION:PT1H
X-Robots-Tag:noindex
X-PUBLISHED-TTL:PT1H
BEGIN:VTIMEZONE
TZID:America/Chicago
BEGIN:DAYLIGHT
TZOFFSETFROM:-0600
TZOFFSETTO:-0500
TZNAME:CDT
DTSTART:20210314T080000
END:DAYLIGHT
BEGIN:STANDARD
TZOFFSETFROM:-0500
TZOFFSETTO:-0600
TZNAME:CST
DTSTART:20211107T070000
END:STANDARD
BEGIN:DAYLIGHT
TZOFFSETFROM:-0600
TZOFFSETTO:-0500
TZNAME:CDT
DTSTART:20220313T080000
END:DAYLIGHT
BEGIN:STANDARD
TZOFFSETFROM:-0500
TZOFFSETTO:-0600
TZNAME:CST
DTSTART:20221106T070000
END:STANDARD
BEGIN:DAYLIGHT
TZOFFSETFROM:-0600
TZOFFSETTO:-0500
TZNAME:CDT
DTSTART:20230312T080000
END:DAYLIGHT
BEGIN:STANDARD
TZOFFSETFROM:-0500
TZOFFSETTO:-0600
TZNAME:CST
DTSTART:20231105T070000
END:STANDARD
BEGIN:DAYLIGHT
TZOFFSETFROM:-0600
TZOFFSETTO:-0500
TZNAME:CDT
DTSTART:20240310T080000
END:DAYLIGHT
BEGIN:STANDARD
TZOFFSETFROM:-0500
TZOFFSETTO:-0600
TZNAME:CST
DTSTART:20241103T070000
END:STANDARD
END:VTIMEZONE
BEGIN:VEVENT
DTSTART;TZID=America/Chicago:20220922T130000
DTEND;TZID=America/Chicago:20220922T140000
DTSTAMP:20260420T182544
CREATED:20220920T134531Z
LAST-MODIFIED:20240507T155648Z
UID:3990-1663851600-1663855200@bloomfieldmainstreet.com
SUMMARY:Community Connections- Bloomfield's Hometown Radio 106.9 FM
DESCRIPTION:
URL:https://bloomfieldmainstreet.com/event/community-connections-bloomfields-hometown-radio-106-9-fm/
LOCATION:Bloomfield Main Street Office\, 101 E. Franklin Street\, Bloomfield\, IA\, 52537\, United States
ATTACH;FMTTYPE=image/png:https://bloomfieldmainstreet.com/wp-content/uploads/2022/09/Community-Connections.png
END:VEVENT
BEGIN:VEVENT
DTSTART;TZID=America/Chicago:20220922T130000
DTEND;TZID=America/Chicago:20220922T140000
DTSTAMP:20260420T182544
CREATED:20220920T134531Z
LAST-MODIFIED:20240507T155648Z
UID:3990-1663851600-1663855200@bloomfieldmainstreet.com
SUMMARY:Community Connections- Bloomfield's Hometown Radio 106.9 FM
DESCRIPTION:
URL:https://bloomfieldmainstreet.com/event/community-connections-bloomfields-hometown-radio-106-9-fm/
LOCATION:Bloomfield Main Street Office\, 101 E. Franklin Street\, Bloomfield\, IA\, 52537\, United States
ATTACH;FMTTYPE=image/png:https://bloomfieldmainstreet.com/wp-content/uploads/2022/09/Community-Connections.png
END:VEVENT
BEGIN:VEVENT
DTSTART;TZID=America/Chicago:20230105T081500
DTEND;TZID=America/Chicago:20230105T090000
DTSTAMP:20260420T182544
CREATED:20230104T153528Z
LAST-MODIFIED:20240506T202218Z
UID:4243-1672906500-1672909200@bloomfieldmainstreet.com
SUMMARY:Experience Main Street Committee Meeting
DESCRIPTION:
URL:https://bloomfieldmainstreet.com/event/shop-main-street-committee-meeting/
END:VEVENT
BEGIN:VEVENT
DTSTART;TZID=America/Chicago:20220922T130000
DTEND;TZID=America/Chicago:20220922T140000
DTSTAMP:20260420T182544
CREATED:20220920T134531Z
LAST-MODIFIED:20240507T155648Z
UID:3990-1663851600-1663855200@bloomfieldmainstreet.com
SUMMARY:Community Connections- Bloomfield's Hometown Radio 106.9 FM
DESCRIPTION:
URL:https://bloomfieldmainstreet.com/event/community-connections-bloomfields-hometown-radio-106-9-fm/
LOCATION:Bloomfield Main Street Office\, 101 E. Franklin Street\, Bloomfield\, IA\, 52537\, United States
ATTACH;FMTTYPE=image/png:https://bloomfieldmainstreet.com/wp-content/uploads/2022/09/Community-Connections.png
END:VEVENT
BEGIN:VEVENT
DTSTART;TZID=America/Chicago:20220922T130000
DTEND;TZID=America/Chicago:20220922T140000
DTSTAMP:20260420T182544
CREATED:20220920T134531Z
LAST-MODIFIED:20240507T155648Z
UID:3990-1663851600-1663855200@bloomfieldmainstreet.com
SUMMARY:Community Connections- Bloomfield's Hometown Radio 106.9 FM
DESCRIPTION:
URL:https://bloomfieldmainstreet.com/event/community-connections-bloomfields-hometown-radio-106-9-fm/
LOCATION:Bloomfield Main Street Office\, 101 E. Franklin Street\, Bloomfield\, IA\, 52537\, United States
ATTACH;FMTTYPE=image/png:https://bloomfieldmainstreet.com/wp-content/uploads/2022/09/Community-Connections.png
END:VEVENT
BEGIN:VEVENT
DTSTART;VALUE=DATE:20230114
DTEND;VALUE=DATE:20230115
DTSTAMP:20260420T182544
CREATED:20221108T162851Z
LAST-MODIFIED:20221108T162901Z
UID:4152-1673654400-1673740799@bloomfieldmainstreet.com
SUMMARY:Shop Local Saturday
DESCRIPTION:Come shop Bloomfield’s local businesses in the downtown! This event will happen the second Saturday of the month in conjunction with the Indoor Farmers’ Market. Shop the participating businesses\, turn in your receipt for a punch\, fill your card\, and get 15% off of a regular price item at the store of your choice! We have a lot to offer in Bloomfield\, take time to check it out!!
URL:https://bloomfieldmainstreet.com/event/shop-local-saturday-2/
ATTACH;FMTTYPE=image/png:https://bloomfieldmainstreet.com/wp-content/uploads/2022/11/Shop-Local-Businesses.png
END:VEVENT
BEGIN:VEVENT
DTSTART;TZID=America/Chicago:20230114T090000
DTEND;TZID=America/Chicago:20230114T120000
DTSTAMP:20260420T182544
CREATED:20221108T155225Z
LAST-MODIFIED:20221108T155225Z
UID:4124-1673686800-1673697600@bloomfieldmainstreet.com
SUMMARY:Indoor Farmers' Market
DESCRIPTION:2022 Indoor Farmers’ Market held at the American Legion upstairs from 9 am to 12 pm. The market will offer baked goods\, eggs\, crafts and more! Stop in and support our local market the second Saturday of the month November to February!
URL:https://bloomfieldmainstreet.com/event/indoor-farmers-market-3/
ATTACH;FMTTYPE=image/png:https://bloomfieldmainstreet.com/wp-content/uploads/2022/11/Farmers-Market-11.png
END:VEVENT
BEGIN:VEVENT
DTSTART;TZID=America/Chicago:20220922T130000
DTEND;TZID=America/Chicago:20220922T140000
DTSTAMP:20260420T182544
CREATED:20220920T134531Z
LAST-MODIFIED:20240507T155648Z
UID:3990-1663851600-1663855200@bloomfieldmainstreet.com
SUMMARY:Community Connections- Bloomfield's Hometown Radio 106.9 FM
DESCRIPTION:
URL:https://bloomfieldmainstreet.com/event/community-connections-bloomfields-hometown-radio-106-9-fm/
LOCATION:Bloomfield Main Street Office\, 101 E. Franklin Street\, Bloomfield\, IA\, 52537\, United States
ATTACH;FMTTYPE=image/png:https://bloomfieldmainstreet.com/wp-content/uploads/2022/09/Community-Connections.png
END:VEVENT
BEGIN:VEVENT
DTSTART;TZID=America/Chicago:20220922T130000
DTEND;TZID=America/Chicago:20220922T140000
DTSTAMP:20260420T182544
CREATED:20220920T134531Z
LAST-MODIFIED:20240507T155648Z
UID:3990-1663851600-1663855200@bloomfieldmainstreet.com
SUMMARY:Community Connections- Bloomfield's Hometown Radio 106.9 FM
DESCRIPTION:
URL:https://bloomfieldmainstreet.com/event/community-connections-bloomfields-hometown-radio-106-9-fm/
LOCATION:Bloomfield Main Street Office\, 101 E. Franklin Street\, Bloomfield\, IA\, 52537\, United States
ATTACH;FMTTYPE=image/png:https://bloomfieldmainstreet.com/wp-content/uploads/2022/09/Community-Connections.png
END:VEVENT
BEGIN:VEVENT
DTSTART;TZID=America/Chicago:20230105T081500
DTEND;TZID=America/Chicago:20230105T090000
DTSTAMP:20260420T182544
CREATED:20230104T153528Z
LAST-MODIFIED:20240506T202218Z
UID:4243-1672906500-1672909200@bloomfieldmainstreet.com
SUMMARY:Experience Main Street Committee Meeting
DESCRIPTION:
URL:https://bloomfieldmainstreet.com/event/shop-main-street-committee-meeting/
END:VEVENT
BEGIN:VEVENT
DTSTART;TZID=America/Chicago:20220922T130000
DTEND;TZID=America/Chicago:20220922T140000
DTSTAMP:20260420T182544
CREATED:20220920T134531Z
LAST-MODIFIED:20240507T155648Z
UID:3990-1663851600-1663855200@bloomfieldmainstreet.com
SUMMARY:Community Connections- Bloomfield's Hometown Radio 106.9 FM
DESCRIPTION:
URL:https://bloomfieldmainstreet.com/event/community-connections-bloomfields-hometown-radio-106-9-fm/
LOCATION:Bloomfield Main Street Office\, 101 E. Franklin Street\, Bloomfield\, IA\, 52537\, United States
ATTACH;FMTTYPE=image/png:https://bloomfieldmainstreet.com/wp-content/uploads/2022/09/Community-Connections.png
END:VEVENT
BEGIN:VEVENT
DTSTART;TZID=America/Chicago:20220922T130000
DTEND;TZID=America/Chicago:20220922T140000
DTSTAMP:20260420T182544
CREATED:20220920T134531Z
LAST-MODIFIED:20240507T155648Z
UID:3990-1663851600-1663855200@bloomfieldmainstreet.com
SUMMARY:Community Connections- Bloomfield's Hometown Radio 106.9 FM
DESCRIPTION:
URL:https://bloomfieldmainstreet.com/event/community-connections-bloomfields-hometown-radio-106-9-fm/
LOCATION:Bloomfield Main Street Office\, 101 E. Franklin Street\, Bloomfield\, IA\, 52537\, United States
ATTACH;FMTTYPE=image/png:https://bloomfieldmainstreet.com/wp-content/uploads/2022/09/Community-Connections.png
END:VEVENT
BEGIN:VEVENT
DTSTART;VALUE=DATE:20230211
DTEND;VALUE=DATE:20230212
DTSTAMP:20260420T182544
CREATED:20221108T163053Z
LAST-MODIFIED:20221108T163308Z
UID:4154-1676073600-1676159999@bloomfieldmainstreet.com
SUMMARY:Shop Local Saturday
DESCRIPTION:Come shop Bloomfield’s local businesses in the downtown! This event will happen the second Saturday of the month in conjunction with the Indoor Farmers’ Market. Shop the participating businesses\, turn in your receipt for a punch\, fill your card\, and get 15% off of a regular price item at the store of your choice! We have a lot to offer in Bloomfield\, take time to check it out!!
URL:https://bloomfieldmainstreet.com/event/shop-local-saturday-3/
ATTACH;FMTTYPE=image/png:https://bloomfieldmainstreet.com/wp-content/uploads/2022/11/Shop-Local-Businesses.png
END:VEVENT
BEGIN:VEVENT
DTSTART;TZID=America/Chicago:20230211T090000
DTEND;TZID=America/Chicago:20230211T120000
DTSTAMP:20260420T182544
CREATED:20221108T155529Z
LAST-MODIFIED:20221108T155529Z
UID:4126-1676106000-1676116800@bloomfieldmainstreet.com
SUMMARY:Indoor Farmers' Market
DESCRIPTION:2022 Indoor Farmers’ Market held at the American Legion upstairs from 9 am to 12 pm. The market will offer baked goods\, eggs\, crafts and more! Stop in and support our local market the second Saturday of the month November to February!
URL:https://bloomfieldmainstreet.com/event/indoor-farmers-market-4/
ATTACH;FMTTYPE=image/png:https://bloomfieldmainstreet.com/wp-content/uploads/2022/11/Farmers-Market-11.png
END:VEVENT
BEGIN:VEVENT
DTSTART;TZID=America/Chicago:20220922T130000
DTEND;TZID=America/Chicago:20220922T140000
DTSTAMP:20260420T182544
CREATED:20220920T134531Z
LAST-MODIFIED:20240507T155648Z
UID:3990-1663851600-1663855200@bloomfieldmainstreet.com
SUMMARY:Community Connections- Bloomfield's Hometown Radio 106.9 FM
DESCRIPTION:
URL:https://bloomfieldmainstreet.com/event/community-connections-bloomfields-hometown-radio-106-9-fm/
LOCATION:Bloomfield Main Street Office\, 101 E. Franklin Street\, Bloomfield\, IA\, 52537\, United States
ATTACH;FMTTYPE=image/png:https://bloomfieldmainstreet.com/wp-content/uploads/2022/09/Community-Connections.png
END:VEVENT
BEGIN:VEVENT
DTSTART;TZID=America/Chicago:20220922T130000
DTEND;TZID=America/Chicago:20220922T140000
DTSTAMP:20260420T182544
CREATED:20220920T134531Z
LAST-MODIFIED:20240507T155648Z
UID:3990-1663851600-1663855200@bloomfieldmainstreet.com
SUMMARY:Community Connections- Bloomfield's Hometown Radio 106.9 FM
DESCRIPTION:
URL:https://bloomfieldmainstreet.com/event/community-connections-bloomfields-hometown-radio-106-9-fm/
LOCATION:Bloomfield Main Street Office\, 101 E. Franklin Street\, Bloomfield\, IA\, 52537\, United States
ATTACH;FMTTYPE=image/png:https://bloomfieldmainstreet.com/wp-content/uploads/2022/09/Community-Connections.png
END:VEVENT
BEGIN:VEVENT
DTSTART;TZID=America/Chicago:20230105T081500
DTEND;TZID=America/Chicago:20230105T090000
DTSTAMP:20260420T182544
CREATED:20230104T153528Z
LAST-MODIFIED:20240506T202218Z
UID:4243-1672906500-1672909200@bloomfieldmainstreet.com
SUMMARY:Experience Main Street Committee Meeting
DESCRIPTION:
URL:https://bloomfieldmainstreet.com/event/shop-main-street-committee-meeting/
END:VEVENT
BEGIN:VEVENT
DTSTART;TZID=America/Chicago:20220922T130000
DTEND;TZID=America/Chicago:20220922T140000
DTSTAMP:20260420T182544
CREATED:20220920T134531Z
LAST-MODIFIED:20240507T155648Z
UID:3990-1663851600-1663855200@bloomfieldmainstreet.com
SUMMARY:Community Connections- Bloomfield's Hometown Radio 106.9 FM
DESCRIPTION:
URL:https://bloomfieldmainstreet.com/event/community-connections-bloomfields-hometown-radio-106-9-fm/
LOCATION:Bloomfield Main Street Office\, 101 E. Franklin Street\, Bloomfield\, IA\, 52537\, United States
ATTACH;FMTTYPE=image/png:https://bloomfieldmainstreet.com/wp-content/uploads/2022/09/Community-Connections.png
END:VEVENT
BEGIN:VEVENT
DTSTART;TZID=America/Chicago:20220922T130000
DTEND;TZID=America/Chicago:20220922T140000
DTSTAMP:20260420T182544
CREATED:20220920T134531Z
LAST-MODIFIED:20240507T155648Z
UID:3990-1663851600-1663855200@bloomfieldmainstreet.com
SUMMARY:Community Connections- Bloomfield's Hometown Radio 106.9 FM
DESCRIPTION:
URL:https://bloomfieldmainstreet.com/event/community-connections-bloomfields-hometown-radio-106-9-fm/
LOCATION:Bloomfield Main Street Office\, 101 E. Franklin Street\, Bloomfield\, IA\, 52537\, United States
ATTACH;FMTTYPE=image/png:https://bloomfieldmainstreet.com/wp-content/uploads/2022/09/Community-Connections.png
END:VEVENT
BEGIN:VEVENT
DTSTART;TZID=America/Chicago:20230314T173000
DTEND;TZID=America/Chicago:20230314T190000
DTSTAMP:20260420T182544
CREATED:20230123T212331Z
LAST-MODIFIED:20230123T212331Z
UID:4266-1678815000-1678820400@bloomfieldmainstreet.com
SUMMARY:Grants and Grant Writing Seminar
DESCRIPTION:This seminar will be led by Pathfinders RC&D. The speaker will review grant applications\, how to prepare\, and answer questions on preparing to apply for a grant. \nNon Main Street Investors cost: $10 \nMain Street Investors can attend for Free
URL:https://bloomfieldmainstreet.com/event/grants-and-grant-writing-seminar/
ATTACH;FMTTYPE=image/jpeg:https://bloomfieldmainstreet.com/wp-content/uploads/2023/01/327142784_566985635351310_5786244695573432436_n.jpg
END:VEVENT
BEGIN:VEVENT
DTSTART;TZID=America/Chicago:20220922T130000
DTEND;TZID=America/Chicago:20220922T140000
DTSTAMP:20260420T182544
CREATED:20220920T134531Z
LAST-MODIFIED:20240507T155648Z
UID:3990-1663851600-1663855200@bloomfieldmainstreet.com
SUMMARY:Community Connections- Bloomfield's Hometown Radio 106.9 FM
DESCRIPTION:
URL:https://bloomfieldmainstreet.com/event/community-connections-bloomfields-hometown-radio-106-9-fm/
LOCATION:Bloomfield Main Street Office\, 101 E. Franklin Street\, Bloomfield\, IA\, 52537\, United States
ATTACH;FMTTYPE=image/png:https://bloomfieldmainstreet.com/wp-content/uploads/2022/09/Community-Connections.png
END:VEVENT
BEGIN:VEVENT
DTSTART;TZID=America/Chicago:20230318T100000
DTEND;TZID=America/Chicago:20230318T120000
DTSTAMP:20260420T182544
CREATED:20230123T212733Z
LAST-MODIFIED:20230123T212733Z
UID:4269-1679133600-1679140800@bloomfieldmainstreet.com
SUMMARY:Seed Starting
DESCRIPTION:
URL:https://bloomfieldmainstreet.com/event/seed-starting/
LOCATION:Bloomfield Main Street Office\, 101 E. Franklin Street\, Bloomfield\, IA\, 52537\, United States
ATTACH;FMTTYPE=image/jpeg:https://bloomfieldmainstreet.com/wp-content/uploads/2023/01/how-to-start-vegetable-garden-h-1.jpg
ORGANIZER;CN="Bloomfield Farmer's Market":MAILTO:jen@bloomfieldmainstreet.com
END:VEVENT
BEGIN:VEVENT
DTSTART;TZID=America/Chicago:20220922T130000
DTEND;TZID=America/Chicago:20220922T140000
DTSTAMP:20260420T182544
CREATED:20220920T134531Z
LAST-MODIFIED:20240507T155648Z
UID:3990-1663851600-1663855200@bloomfieldmainstreet.com
SUMMARY:Community Connections- Bloomfield's Hometown Radio 106.9 FM
DESCRIPTION:
URL:https://bloomfieldmainstreet.com/event/community-connections-bloomfields-hometown-radio-106-9-fm/
LOCATION:Bloomfield Main Street Office\, 101 E. Franklin Street\, Bloomfield\, IA\, 52537\, United States
ATTACH;FMTTYPE=image/png:https://bloomfieldmainstreet.com/wp-content/uploads/2022/09/Community-Connections.png
END:VEVENT
BEGIN:VEVENT
DTSTART;TZID=America/Chicago:20220922T130000
DTEND;TZID=America/Chicago:20220922T140000
DTSTAMP:20260420T182544
CREATED:20220920T134531Z
LAST-MODIFIED:20240507T155648Z
UID:3990-1663851600-1663855200@bloomfieldmainstreet.com
SUMMARY:Community Connections- Bloomfield's Hometown Radio 106.9 FM
DESCRIPTION:
URL:https://bloomfieldmainstreet.com/event/community-connections-bloomfields-hometown-radio-106-9-fm/
LOCATION:Bloomfield Main Street Office\, 101 E. Franklin Street\, Bloomfield\, IA\, 52537\, United States
ATTACH;FMTTYPE=image/png:https://bloomfieldmainstreet.com/wp-content/uploads/2022/09/Community-Connections.png
END:VEVENT
BEGIN:VEVENT
DTSTART;TZID=America/Chicago:20230105T081500
DTEND;TZID=America/Chicago:20230105T090000
DTSTAMP:20260420T182544
CREATED:20230104T153528Z
LAST-MODIFIED:20240506T202218Z
UID:4243-1672906500-1672909200@bloomfieldmainstreet.com
SUMMARY:Experience Main Street Committee Meeting
DESCRIPTION:
URL:https://bloomfieldmainstreet.com/event/shop-main-street-committee-meeting/
END:VEVENT
BEGIN:VEVENT
DTSTART;TZID=America/Chicago:20220922T130000
DTEND;TZID=America/Chicago:20220922T140000
DTSTAMP:20260420T182544
CREATED:20220920T134531Z
LAST-MODIFIED:20240507T155648Z
UID:3990-1663851600-1663855200@bloomfieldmainstreet.com
SUMMARY:Community Connections- Bloomfield's Hometown Radio 106.9 FM
DESCRIPTION:
URL:https://bloomfieldmainstreet.com/event/community-connections-bloomfields-hometown-radio-106-9-fm/
LOCATION:Bloomfield Main Street Office\, 101 E. Franklin Street\, Bloomfield\, IA\, 52537\, United States
ATTACH;FMTTYPE=image/png:https://bloomfieldmainstreet.com/wp-content/uploads/2022/09/Community-Connections.png
END:VEVENT
BEGIN:VEVENT
DTSTART;TZID=America/Chicago:20220922T130000
DTEND;TZID=America/Chicago:20220922T140000
DTSTAMP:20260420T182544
CREATED:20220920T134531Z
LAST-MODIFIED:20240507T155648Z
UID:3990-1663851600-1663855200@bloomfieldmainstreet.com
SUMMARY:Community Connections- Bloomfield's Hometown Radio 106.9 FM
DESCRIPTION:
URL:https://bloomfieldmainstreet.com/event/community-connections-bloomfields-hometown-radio-106-9-fm/
LOCATION:Bloomfield Main Street Office\, 101 E. Franklin Street\, Bloomfield\, IA\, 52537\, United States
ATTACH;FMTTYPE=image/png:https://bloomfieldmainstreet.com/wp-content/uploads/2022/09/Community-Connections.png
END:VEVENT
BEGIN:VEVENT
DTSTART;TZID=America/Chicago:20230415T100000
DTEND;TZID=America/Chicago:20230415T120000
DTSTAMP:20260420T182544
CREATED:20230104T145746Z
LAST-MODIFIED:20230124T200105Z
UID:4228-1681552800-1681560000@bloomfieldmainstreet.com
SUMMARY:Spring Fashion Showcase
DESCRIPTION:2nd Annual Spring Fashion Showcase presented by Bloomfield Main Street. \nThe Spring Fashion Showcase is designed for the community to be able to see what we can offer here with local businesses. This specific event is a showcase for Men and Women’s clothing\, children\, toddles\, and infants. The clothing ranges from casual to dressy to athletic wear! Businesses also showcase accessories\, pet accessories\, furniture\, floral arrangements and much more!
URL:https://bloomfieldmainstreet.com/event/spring-fashion-showcase/
ATTACH;FMTTYPE=image/jpeg:https://bloomfieldmainstreet.com/wp-content/uploads/2023/01/278315915_1890723994459802_344486790140063516_n.jpg
END:VEVENT
BEGIN:VEVENT
DTSTART;TZID=America/Chicago:20220922T130000
DTEND;TZID=America/Chicago:20220922T140000
DTSTAMP:20260420T182544
CREATED:20220920T134531Z
LAST-MODIFIED:20240507T155648Z
UID:3990-1663851600-1663855200@bloomfieldmainstreet.com
SUMMARY:Community Connections- Bloomfield's Hometown Radio 106.9 FM
DESCRIPTION:
URL:https://bloomfieldmainstreet.com/event/community-connections-bloomfields-hometown-radio-106-9-fm/
LOCATION:Bloomfield Main Street Office\, 101 E. Franklin Street\, Bloomfield\, IA\, 52537\, United States
ATTACH;FMTTYPE=image/png:https://bloomfieldmainstreet.com/wp-content/uploads/2022/09/Community-Connections.png
END:VEVENT
BEGIN:VEVENT
DTSTART;TZID=America/Chicago:20220922T130000
DTEND;TZID=America/Chicago:20220922T140000
DTSTAMP:20260420T182544
CREATED:20220920T134531Z
LAST-MODIFIED:20240507T155648Z
UID:3990-1663851600-1663855200@bloomfieldmainstreet.com
SUMMARY:Community Connections- Bloomfield's Hometown Radio 106.9 FM
DESCRIPTION:
URL:https://bloomfieldmainstreet.com/event/community-connections-bloomfields-hometown-radio-106-9-fm/
LOCATION:Bloomfield Main Street Office\, 101 E. Franklin Street\, Bloomfield\, IA\, 52537\, United States
ATTACH;FMTTYPE=image/png:https://bloomfieldmainstreet.com/wp-content/uploads/2022/09/Community-Connections.png
END:VEVENT
END:VCALENDAR