BEGIN:VCALENDAR
VERSION:2.0
PRODID:-//Bloomfield Main Street - ECPv6.15.20//NONSGML v1.0//EN
CALSCALE:GREGORIAN
METHOD:PUBLISH
X-WR-CALNAME:Bloomfield Main Street
X-ORIGINAL-URL:https://bloomfieldmainstreet.com
X-WR-CALDESC:Events for Bloomfield Main Street
REFRESH-INTERVAL;VALUE=DURATION:PT1H
X-Robots-Tag:noindex
X-PUBLISHED-TTL:PT1H
BEGIN:VTIMEZONE
TZID:America/Chicago
BEGIN:DAYLIGHT
TZOFFSETFROM:-0600
TZOFFSETTO:-0500
TZNAME:CDT
DTSTART:20210314T080000
END:DAYLIGHT
BEGIN:STANDARD
TZOFFSETFROM:-0500
TZOFFSETTO:-0600
TZNAME:CST
DTSTART:20211107T070000
END:STANDARD
BEGIN:DAYLIGHT
TZOFFSETFROM:-0600
TZOFFSETTO:-0500
TZNAME:CDT
DTSTART:20220313T080000
END:DAYLIGHT
BEGIN:STANDARD
TZOFFSETFROM:-0500
TZOFFSETTO:-0600
TZNAME:CST
DTSTART:20221106T070000
END:STANDARD
BEGIN:DAYLIGHT
TZOFFSETFROM:-0600
TZOFFSETTO:-0500
TZNAME:CDT
DTSTART:20230312T080000
END:DAYLIGHT
BEGIN:STANDARD
TZOFFSETFROM:-0500
TZOFFSETTO:-0600
TZNAME:CST
DTSTART:20231105T070000
END:STANDARD
BEGIN:DAYLIGHT
TZOFFSETFROM:-0600
TZOFFSETTO:-0500
TZNAME:CDT
DTSTART:20240310T080000
END:DAYLIGHT
BEGIN:STANDARD
TZOFFSETFROM:-0500
TZOFFSETTO:-0600
TZNAME:CST
DTSTART:20241103T070000
END:STANDARD
BEGIN:DAYLIGHT
TZOFFSETFROM:-0600
TZOFFSETTO:-0500
TZNAME:CDT
DTSTART:20250309T080000
END:DAYLIGHT
BEGIN:STANDARD
TZOFFSETFROM:-0500
TZOFFSETTO:-0600
TZNAME:CST
DTSTART:20251102T070000
END:STANDARD
BEGIN:DAYLIGHT
TZOFFSETFROM:-0600
TZOFFSETTO:-0500
TZNAME:CDT
DTSTART:20260308T080000
END:DAYLIGHT
BEGIN:STANDARD
TZOFFSETFROM:-0500
TZOFFSETTO:-0600
TZNAME:CST
DTSTART:20261101T070000
END:STANDARD
END:VTIMEZONE
BEGIN:VEVENT
DTSTART;TZID=America/Chicago:20240506T120000
DTEND;TZID=America/Chicago:20240506T130000
DTSTAMP:20260420T142422
CREATED:20240507T142815Z
LAST-MODIFIED:20240507T142815Z
UID:4629-1714996800-1715000400@bloomfieldmainstreet.com
SUMMARY:Organization Committee Meeting
DESCRIPTION:
URL:https://bloomfieldmainstreet.com/event/organization-committee-meeting/
LOCATION:Bloomfield Main Street Office\, 101 E. Franklin Street\, Bloomfield\, IA\, 52537\, United States
END:VEVENT
BEGIN:VEVENT
DTSTART;TZID=America/Chicago:20220922T130000
DTEND;TZID=America/Chicago:20220922T140000
DTSTAMP:20260420T142422
CREATED:20220920T134531Z
LAST-MODIFIED:20240507T155648Z
UID:3990-1663851600-1663855200@bloomfieldmainstreet.com
SUMMARY:Community Connections- Bloomfield's Hometown Radio 106.9 FM
DESCRIPTION:
URL:https://bloomfieldmainstreet.com/event/community-connections-bloomfields-hometown-radio-106-9-fm/
LOCATION:Bloomfield Main Street Office\, 101 E. Franklin Street\, Bloomfield\, IA\, 52537\, United States
ATTACH;FMTTYPE=image/png:https://bloomfieldmainstreet.com/wp-content/uploads/2022/09/Community-Connections.png
END:VEVENT
BEGIN:VEVENT
DTSTART;TZID=America/Chicago:20230105T081500
DTEND;TZID=America/Chicago:20230105T090000
DTSTAMP:20260420T142422
CREATED:20230104T153528Z
LAST-MODIFIED:20240506T202218Z
UID:4243-1672906500-1672909200@bloomfieldmainstreet.com
SUMMARY:Experience Main Street Committee Meeting
DESCRIPTION:
URL:https://bloomfieldmainstreet.com/event/shop-main-street-committee-meeting/
LOCATION:IA
END:VEVENT
BEGIN:VEVENT
DTSTART;TZID=America/Chicago:20220922T130000
DTEND;TZID=America/Chicago:20220922T140000
DTSTAMP:20260420T142422
CREATED:20220920T134531Z
LAST-MODIFIED:20240507T155648Z
UID:3990-1663851600-1663855200@bloomfieldmainstreet.com
SUMMARY:Community Connections- Bloomfield's Hometown Radio 106.9 FM
DESCRIPTION:
URL:https://bloomfieldmainstreet.com/event/community-connections-bloomfields-hometown-radio-106-9-fm/
LOCATION:Bloomfield Main Street Office\, 101 E. Franklin Street\, Bloomfield\, IA\, 52537\, United States
ATTACH;FMTTYPE=image/png:https://bloomfieldmainstreet.com/wp-content/uploads/2022/09/Community-Connections.png
END:VEVENT
BEGIN:VEVENT
DTSTART;TZID=America/Chicago:20220922T130000
DTEND;TZID=America/Chicago:20220922T140000
DTSTAMP:20260420T142422
CREATED:20220920T134531Z
LAST-MODIFIED:20240507T155648Z
UID:3990-1663851600-1663855200@bloomfieldmainstreet.com
SUMMARY:Community Connections- Bloomfield's Hometown Radio 106.9 FM
DESCRIPTION:
URL:https://bloomfieldmainstreet.com/event/community-connections-bloomfields-hometown-radio-106-9-fm/
LOCATION:Bloomfield Main Street Office\, 101 E. Franklin Street\, Bloomfield\, IA\, 52537\, United States
ATTACH;FMTTYPE=image/png:https://bloomfieldmainstreet.com/wp-content/uploads/2022/09/Community-Connections.png
END:VEVENT
BEGIN:VEVENT
DTSTART;TZID=America/Chicago:20240220T173000
DTEND;TZID=America/Chicago:20240220T190000
DTSTAMP:20260420T142422
CREATED:20240205T215528Z
LAST-MODIFIED:20240205T215528Z
UID:4598-1708450200-1708455600@bloomfieldmainstreet.com
SUMMARY:Bloomfield Main Street Monthly Board Meeting
DESCRIPTION:
URL:https://bloomfieldmainstreet.com/event/bloomfield-main-street-monthly-board-meeting/
LOCATION:IA
END:VEVENT
BEGIN:VEVENT
DTSTART;TZID=America/Chicago:20240521T163000
DTEND;TZID=America/Chicago:20240521T173000
DTSTAMP:20260420T142422
CREATED:20240507T143408Z
LAST-MODIFIED:20240507T143408Z
UID:4635-1716309000-1716312600@bloomfieldmainstreet.com
SUMMARY:Promotions Committee Meeting
DESCRIPTION:
URL:https://bloomfieldmainstreet.com/event/promotions-committee-meeting/
LOCATION:Bloomfield Main Street Office\, 101 E. Franklin Street\, Bloomfield\, IA\, 52537\, United States
END:VEVENT
BEGIN:VEVENT
DTSTART;TZID=America/Chicago:20220922T130000
DTEND;TZID=America/Chicago:20220922T140000
DTSTAMP:20260420T142422
CREATED:20220920T134531Z
LAST-MODIFIED:20240507T155648Z
UID:3990-1663851600-1663855200@bloomfieldmainstreet.com
SUMMARY:Community Connections- Bloomfield's Hometown Radio 106.9 FM
DESCRIPTION:
URL:https://bloomfieldmainstreet.com/event/community-connections-bloomfields-hometown-radio-106-9-fm/
LOCATION:Bloomfield Main Street Office\, 101 E. Franklin Street\, Bloomfield\, IA\, 52537\, United States
ATTACH;FMTTYPE=image/png:https://bloomfieldmainstreet.com/wp-content/uploads/2022/09/Community-Connections.png
END:VEVENT
BEGIN:VEVENT
DTSTART;TZID=America/Chicago:20240508T153000
DTEND;TZID=America/Chicago:20240508T163000
DTSTAMP:20260420T142422
CREATED:20240507T143140Z
LAST-MODIFIED:20240507T143140Z
UID:4632-1715182200-1715185800@bloomfieldmainstreet.com
SUMMARY:High School Committee Meeting
DESCRIPTION:
URL:https://bloomfieldmainstreet.com/event/high-school-committee-meeting/
LOCATION:Bloomfield Main Street Office\, 101 E. Franklin Street\, Bloomfield\, IA\, 52537\, United States
END:VEVENT
BEGIN:VEVENT
DTSTART;TZID=America/Chicago:20240514T080000
DTEND;TZID=America/Chicago:20240514T090000
DTSTAMP:20260420T142422
CREATED:20240507T142452Z
LAST-MODIFIED:20240507T142452Z
UID:4626-1715673600-1715677200@bloomfieldmainstreet.com
SUMMARY:Design Committee Meeting
DESCRIPTION:
URL:https://bloomfieldmainstreet.com/event/design-committee-meeting/
LOCATION:Bloomfield Main Street Office\, 101 E. Franklin Street\, Bloomfield\, IA\, 52537\, United States
END:VEVENT
BEGIN:VEVENT
DTSTART;TZID=America/Chicago:20240506T120000
DTEND;TZID=America/Chicago:20240506T130000
DTSTAMP:20260420T142422
CREATED:20240507T142815Z
LAST-MODIFIED:20240507T142815Z
UID:4629-1714996800-1715000400@bloomfieldmainstreet.com
SUMMARY:Organization Committee Meeting
DESCRIPTION:
URL:https://bloomfieldmainstreet.com/event/organization-committee-meeting/
LOCATION:Bloomfield Main Street Office\, 101 E. Franklin Street\, Bloomfield\, IA\, 52537\, United States
END:VEVENT
BEGIN:VEVENT
DTSTART;TZID=America/Chicago:20220922T130000
DTEND;TZID=America/Chicago:20220922T140000
DTSTAMP:20260420T142422
CREATED:20220920T134531Z
LAST-MODIFIED:20240507T155648Z
UID:3990-1663851600-1663855200@bloomfieldmainstreet.com
SUMMARY:Community Connections- Bloomfield's Hometown Radio 106.9 FM
DESCRIPTION:
URL:https://bloomfieldmainstreet.com/event/community-connections-bloomfields-hometown-radio-106-9-fm/
LOCATION:Bloomfield Main Street Office\, 101 E. Franklin Street\, Bloomfield\, IA\, 52537\, United States
ATTACH;FMTTYPE=image/png:https://bloomfieldmainstreet.com/wp-content/uploads/2022/09/Community-Connections.png
END:VEVENT
BEGIN:VEVENT
DTSTART;TZID=America/Chicago:20230105T081500
DTEND;TZID=America/Chicago:20230105T090000
DTSTAMP:20260420T142422
CREATED:20230104T153528Z
LAST-MODIFIED:20240506T202218Z
UID:4243-1672906500-1672909200@bloomfieldmainstreet.com
SUMMARY:Experience Main Street Committee Meeting
DESCRIPTION:
URL:https://bloomfieldmainstreet.com/event/shop-main-street-committee-meeting/
LOCATION:IA
END:VEVENT
BEGIN:VEVENT
DTSTART;TZID=America/Chicago:20240501T160000
DTEND;TZID=America/Chicago:20240501T170000
DTSTAMP:20260420T142422
CREATED:20240507T143853Z
LAST-MODIFIED:20240507T143853Z
UID:4638-1714579200-1714582800@bloomfieldmainstreet.com
SUMMARY:Economic Vitality Committee Meeting
DESCRIPTION:
URL:https://bloomfieldmainstreet.com/event/economic-vitality-committee-meeting/
LOCATION:Bloomfield Main Street Office\, 101 E. Franklin Street\, Bloomfield\, IA\, 52537\, United States
END:VEVENT
BEGIN:VEVENT
DTSTART;TZID=America/Chicago:20250328T173000
DTEND;TZID=America/Chicago:20250328T183000
DTSTAMP:20260420T142422
CREATED:20250228T154947Z
LAST-MODIFIED:20250228T154947Z
UID:4752-1743183000-1743186600@bloomfieldmainstreet.com
SUMMARY:Farmers Market Vendor Meeting
DESCRIPTION:If you plan on being a vendor at the Bloomfield Farmers Market we will have our yearly kick off meeting at the Main Street Office. We will review the vendor form\, talk about special market dates\, and review any questions for the upcoming market season. Vendors can fill out their application and pay for the season if they wish! If you have additional questions about the meeting email jen@bloomfieldmainstreet.com or call/text 641.242.2616
URL:https://bloomfieldmainstreet.com/event/farmers-market-vendor-meeting/
LOCATION:Bloomfield Main Street Office\, 101 E. Franklin Street\, Bloomfield\, IA\, 52537\, United States
ATTACH;FMTTYPE=image/png:https://bloomfieldmainstreet.com/wp-content/uploads/2025/02/Every-Saturday-820-x-312-px-1.png
ORGANIZER;CN="Bloomfield Farmer's Market":MAILTO:jen@bloomfieldmainstreet.com
END:VEVENT
BEGIN:VEVENT
DTSTART;TZID=America/Chicago:20220922T130000
DTEND;TZID=America/Chicago:20220922T140000
DTSTAMP:20260420T142422
CREATED:20220920T134531Z
LAST-MODIFIED:20240507T155648Z
UID:3990-1663851600-1663855200@bloomfieldmainstreet.com
SUMMARY:Community Connections- Bloomfield's Hometown Radio 106.9 FM
DESCRIPTION:
URL:https://bloomfieldmainstreet.com/event/community-connections-bloomfields-hometown-radio-106-9-fm/
LOCATION:Bloomfield Main Street Office\, 101 E. Franklin Street\, Bloomfield\, IA\, 52537\, United States
ATTACH;FMTTYPE=image/png:https://bloomfieldmainstreet.com/wp-content/uploads/2022/09/Community-Connections.png
END:VEVENT
BEGIN:VEVENT
DTSTART;TZID=America/Chicago:20220922T130000
DTEND;TZID=America/Chicago:20220922T140000
DTSTAMP:20260420T142422
CREATED:20220920T134531Z
LAST-MODIFIED:20240507T155648Z
UID:3990-1663851600-1663855200@bloomfieldmainstreet.com
SUMMARY:Community Connections- Bloomfield's Hometown Radio 106.9 FM
DESCRIPTION:
URL:https://bloomfieldmainstreet.com/event/community-connections-bloomfields-hometown-radio-106-9-fm/
LOCATION:Bloomfield Main Street Office\, 101 E. Franklin Street\, Bloomfield\, IA\, 52537\, United States
ATTACH;FMTTYPE=image/png:https://bloomfieldmainstreet.com/wp-content/uploads/2022/09/Community-Connections.png
END:VEVENT
BEGIN:VEVENT
DTSTART;TZID=America/Chicago:20240220T173000
DTEND;TZID=America/Chicago:20240220T190000
DTSTAMP:20260420T142422
CREATED:20240205T215528Z
LAST-MODIFIED:20240205T215528Z
UID:4598-1708450200-1708455600@bloomfieldmainstreet.com
SUMMARY:Bloomfield Main Street Monthly Board Meeting
DESCRIPTION:
URL:https://bloomfieldmainstreet.com/event/bloomfield-main-street-monthly-board-meeting/
LOCATION:IA
END:VEVENT
BEGIN:VEVENT
DTSTART;TZID=America/Chicago:20240521T163000
DTEND;TZID=America/Chicago:20240521T173000
DTSTAMP:20260420T142422
CREATED:20240507T143408Z
LAST-MODIFIED:20240507T143408Z
UID:4635-1716309000-1716312600@bloomfieldmainstreet.com
SUMMARY:Promotions Committee Meeting
DESCRIPTION:
URL:https://bloomfieldmainstreet.com/event/promotions-committee-meeting/
LOCATION:Bloomfield Main Street Office\, 101 E. Franklin Street\, Bloomfield\, IA\, 52537\, United States
END:VEVENT
BEGIN:VEVENT
DTSTART;TZID=America/Chicago:20220922T130000
DTEND;TZID=America/Chicago:20220922T140000
DTSTAMP:20260420T142422
CREATED:20220920T134531Z
LAST-MODIFIED:20240507T155648Z
UID:3990-1663851600-1663855200@bloomfieldmainstreet.com
SUMMARY:Community Connections- Bloomfield's Hometown Radio 106.9 FM
DESCRIPTION:
URL:https://bloomfieldmainstreet.com/event/community-connections-bloomfields-hometown-radio-106-9-fm/
LOCATION:Bloomfield Main Street Office\, 101 E. Franklin Street\, Bloomfield\, IA\, 52537\, United States
ATTACH;FMTTYPE=image/png:https://bloomfieldmainstreet.com/wp-content/uploads/2022/09/Community-Connections.png
END:VEVENT
BEGIN:VEVENT
DTSTART;TZID=America/Chicago:20240508T153000
DTEND;TZID=America/Chicago:20240508T163000
DTSTAMP:20260420T142422
CREATED:20240507T143140Z
LAST-MODIFIED:20240507T143140Z
UID:4632-1715182200-1715185800@bloomfieldmainstreet.com
SUMMARY:High School Committee Meeting
DESCRIPTION:
URL:https://bloomfieldmainstreet.com/event/high-school-committee-meeting/
LOCATION:Bloomfield Main Street Office\, 101 E. Franklin Street\, Bloomfield\, IA\, 52537\, United States
END:VEVENT
BEGIN:VEVENT
DTSTART;TZID=America/Chicago:20240514T080000
DTEND;TZID=America/Chicago:20240514T090000
DTSTAMP:20260420T142422
CREATED:20240507T142452Z
LAST-MODIFIED:20240507T142452Z
UID:4626-1715673600-1715677200@bloomfieldmainstreet.com
SUMMARY:Design Committee Meeting
DESCRIPTION:
URL:https://bloomfieldmainstreet.com/event/design-committee-meeting/
LOCATION:Bloomfield Main Street Office\, 101 E. Franklin Street\, Bloomfield\, IA\, 52537\, United States
END:VEVENT
BEGIN:VEVENT
DTSTART;TZID=America/Chicago:20220922T130000
DTEND;TZID=America/Chicago:20220922T140000
DTSTAMP:20260420T142422
CREATED:20220920T134531Z
LAST-MODIFIED:20240507T155648Z
UID:3990-1663851600-1663855200@bloomfieldmainstreet.com
SUMMARY:Community Connections- Bloomfield's Hometown Radio 106.9 FM
DESCRIPTION:
URL:https://bloomfieldmainstreet.com/event/community-connections-bloomfields-hometown-radio-106-9-fm/
LOCATION:Bloomfield Main Street Office\, 101 E. Franklin Street\, Bloomfield\, IA\, 52537\, United States
ATTACH;FMTTYPE=image/png:https://bloomfieldmainstreet.com/wp-content/uploads/2022/09/Community-Connections.png
END:VEVENT
BEGIN:VEVENT
DTSTART;TZID=America/Chicago:20230105T081500
DTEND;TZID=America/Chicago:20230105T090000
DTSTAMP:20260420T142422
CREATED:20230104T153528Z
LAST-MODIFIED:20240506T202218Z
UID:4243-1672906500-1672909200@bloomfieldmainstreet.com
SUMMARY:Experience Main Street Committee Meeting
DESCRIPTION:
URL:https://bloomfieldmainstreet.com/event/shop-main-street-committee-meeting/
LOCATION:IA
END:VEVENT
BEGIN:VEVENT
DTSTART;TZID=America/Chicago:20240501T160000
DTEND;TZID=America/Chicago:20240501T170000
DTSTAMP:20260420T142422
CREATED:20240507T143853Z
LAST-MODIFIED:20240507T143853Z
UID:4638-1714579200-1714582800@bloomfieldmainstreet.com
SUMMARY:Economic Vitality Committee Meeting
DESCRIPTION:
URL:https://bloomfieldmainstreet.com/event/economic-vitality-committee-meeting/
LOCATION:Bloomfield Main Street Office\, 101 E. Franklin Street\, Bloomfield\, IA\, 52537\, United States
END:VEVENT
BEGIN:VEVENT
DTSTART;TZID=America/Chicago:20240506T120000
DTEND;TZID=America/Chicago:20240506T130000
DTSTAMP:20260420T142422
CREATED:20240507T142815Z
LAST-MODIFIED:20240507T142815Z
UID:4629-1714996800-1715000400@bloomfieldmainstreet.com
SUMMARY:Organization Committee Meeting
DESCRIPTION:
URL:https://bloomfieldmainstreet.com/event/organization-committee-meeting/
LOCATION:Bloomfield Main Street Office\, 101 E. Franklin Street\, Bloomfield\, IA\, 52537\, United States
END:VEVENT
BEGIN:VEVENT
DTSTART;TZID=America/Chicago:20250228T190000
DTEND;TZID=America/Chicago:20250228T210000
DTSTAMP:20260420T142422
CREATED:20250228T172932Z
LAST-MODIFIED:20250228T172932Z
UID:4782-1740769200-1740776400@bloomfieldmainstreet.com
SUMMARY:Outdoor Movie Night
DESCRIPTION:Our last Movie night of the year on another Thursday evening with no school on Friday! Be sure to join us on the courtyard for snacks and a great movie! Show begins at dusk\, roughly 7:15pm
URL:https://bloomfieldmainstreet.com/event/outdoor-movie-night-3/
LOCATION:Bloomfield Courtyard\, 100 Courthouse Sq Lot 9\, Bloomfield\, 52537\, United States
ATTACH;FMTTYPE=image/jpeg:https://bloomfieldmainstreet.com/wp-content/uploads/2025/02/MV5BMjZjNjE5NDEtOWJjYS00Mjk2LWI1ZDYtOWI1ZWI3MzRjM2UzXkEyXkFqcGc@._V1_FMjpg_UX1000_.jpg
END:VEVENT
BEGIN:VEVENT
DTSTART;TZID=America/Chicago:20220922T130000
DTEND;TZID=America/Chicago:20220922T140000
DTSTAMP:20260420T142422
CREATED:20220920T134531Z
LAST-MODIFIED:20240507T155648Z
UID:3990-1663851600-1663855200@bloomfieldmainstreet.com
SUMMARY:Community Connections- Bloomfield's Hometown Radio 106.9 FM
DESCRIPTION:
URL:https://bloomfieldmainstreet.com/event/community-connections-bloomfields-hometown-radio-106-9-fm/
LOCATION:Bloomfield Main Street Office\, 101 E. Franklin Street\, Bloomfield\, IA\, 52537\, United States
ATTACH;FMTTYPE=image/png:https://bloomfieldmainstreet.com/wp-content/uploads/2022/09/Community-Connections.png
END:VEVENT
BEGIN:VEVENT
DTSTART;TZID=America/Chicago:20220922T130000
DTEND;TZID=America/Chicago:20220922T140000
DTSTAMP:20260420T142422
CREATED:20220920T134531Z
LAST-MODIFIED:20240507T155648Z
UID:3990-1663851600-1663855200@bloomfieldmainstreet.com
SUMMARY:Community Connections- Bloomfield's Hometown Radio 106.9 FM
DESCRIPTION:
URL:https://bloomfieldmainstreet.com/event/community-connections-bloomfields-hometown-radio-106-9-fm/
LOCATION:Bloomfield Main Street Office\, 101 E. Franklin Street\, Bloomfield\, IA\, 52537\, United States
ATTACH;FMTTYPE=image/png:https://bloomfieldmainstreet.com/wp-content/uploads/2022/09/Community-Connections.png
END:VEVENT
BEGIN:VEVENT
DTSTART;TZID=America/Chicago:20240220T173000
DTEND;TZID=America/Chicago:20240220T190000
DTSTAMP:20260420T142422
CREATED:20240205T215528Z
LAST-MODIFIED:20240205T215528Z
UID:4598-1708450200-1708455600@bloomfieldmainstreet.com
SUMMARY:Bloomfield Main Street Monthly Board Meeting
DESCRIPTION:
URL:https://bloomfieldmainstreet.com/event/bloomfield-main-street-monthly-board-meeting/
LOCATION:IA
END:VEVENT
END:VCALENDAR