BEGIN:VCALENDAR
VERSION:2.0
PRODID:-//Bloomfield Main Street - ECPv6.15.20//NONSGML v1.0//EN
CALSCALE:GREGORIAN
METHOD:PUBLISH
X-WR-CALNAME:Bloomfield Main Street
X-ORIGINAL-URL:https://bloomfieldmainstreet.com
X-WR-CALDESC:Events for Bloomfield Main Street
REFRESH-INTERVAL;VALUE=DURATION:PT1H
X-Robots-Tag:noindex
X-PUBLISHED-TTL:PT1H
BEGIN:VTIMEZONE
TZID:America/Chicago
BEGIN:DAYLIGHT
TZOFFSETFROM:-0600
TZOFFSETTO:-0500
TZNAME:CDT
DTSTART:20240310T080000
END:DAYLIGHT
BEGIN:STANDARD
TZOFFSETFROM:-0500
TZOFFSETTO:-0600
TZNAME:CST
DTSTART:20241103T070000
END:STANDARD
BEGIN:DAYLIGHT
TZOFFSETFROM:-0600
TZOFFSETTO:-0500
TZNAME:CDT
DTSTART:20250309T080000
END:DAYLIGHT
BEGIN:STANDARD
TZOFFSETFROM:-0500
TZOFFSETTO:-0600
TZNAME:CST
DTSTART:20251102T070000
END:STANDARD
BEGIN:DAYLIGHT
TZOFFSETFROM:-0600
TZOFFSETTO:-0500
TZNAME:CDT
DTSTART:20260308T080000
END:DAYLIGHT
BEGIN:STANDARD
TZOFFSETFROM:-0500
TZOFFSETTO:-0600
TZNAME:CST
DTSTART:20261101T070000
END:STANDARD
END:VTIMEZONE
BEGIN:VEVENT
DTSTART;VALUE=DATE:20250920
DTEND;VALUE=DATE:20250921
DTSTAMP:20260423T142338
CREATED:20250228T172640Z
LAST-MODIFIED:20250228T172640Z
UID:4778-1758326400-1758412799@bloomfieldmainstreet.com
SUMMARY:Fall Festival + Car Show
DESCRIPTION:Join us for the 2025 Fall Festival + Car Show! There will be several judged categories for the car show\, food trucks\,kids games\, and more! Be sure to mark your calendars and join us in 2025!
URL:https://bloomfieldmainstreet.com/event/fall-festival-car-show-2/
LOCATION:Bloomfield Courtyard\, 100 Courthouse Sq Lot 9\, Bloomfield\, 52537\, United States
ATTACH;FMTTYPE=image/png:https://bloomfieldmainstreet.com/wp-content/uploads/2025/02/Lati-1.png
END:VEVENT
END:VCALENDAR