BEGIN:VCALENDAR
VERSION:2.0
PRODID:-//Bloomfield Main Street - ECPv6.15.20//NONSGML v1.0//EN
CALSCALE:GREGORIAN
METHOD:PUBLISH
X-WR-CALNAME:Bloomfield Main Street
X-ORIGINAL-URL:https://bloomfieldmainstreet.com
X-WR-CALDESC:Events for Bloomfield Main Street
REFRESH-INTERVAL;VALUE=DURATION:PT1H
X-Robots-Tag:noindex
X-PUBLISHED-TTL:PT1H
BEGIN:VTIMEZONE
TZID:America/Chicago
BEGIN:DAYLIGHT
TZOFFSETFROM:-0600
TZOFFSETTO:-0500
TZNAME:CDT
DTSTART:20220313T080000
END:DAYLIGHT
BEGIN:STANDARD
TZOFFSETFROM:-0500
TZOFFSETTO:-0600
TZNAME:CST
DTSTART:20221106T070000
END:STANDARD
BEGIN:DAYLIGHT
TZOFFSETFROM:-0600
TZOFFSETTO:-0500
TZNAME:CDT
DTSTART:20230312T080000
END:DAYLIGHT
BEGIN:STANDARD
TZOFFSETFROM:-0500
TZOFFSETTO:-0600
TZNAME:CST
DTSTART:20231105T070000
END:STANDARD
BEGIN:DAYLIGHT
TZOFFSETFROM:-0600
TZOFFSETTO:-0500
TZNAME:CDT
DTSTART:20240310T080000
END:DAYLIGHT
BEGIN:STANDARD
TZOFFSETFROM:-0500
TZOFFSETTO:-0600
TZNAME:CST
DTSTART:20241103T070000
END:STANDARD
END:VTIMEZONE
BEGIN:VEVENT
DTSTART;TZID=America/Chicago:20230429T133000
DTEND;TZID=America/Chicago:20230429T153000
DTSTAMP:20260420T071246
CREATED:20230123T213116Z
LAST-MODIFIED:20230123T213116Z
UID:4276-1682775000-1682782200@bloomfieldmainstreet.com
SUMMARY:Preserve the Taste of Summer 101
DESCRIPTION:Love that fresh garden produce but have more than you can eat? Preserve it! It’s not difficult\, but you do need to follow safe methods. You’ll learn how to can\, freeze\, and dry foods safely at home in this introductory course. You must be 18+ to attend and cost is $10 a person. This course is led by ISU Extension and Outreach
URL:https://bloomfieldmainstreet.com/event/preserve-the-taste-of-summer-101/
LOCATION:Bloomfield Main Street Office\, 101 E. Franklin Street\, Bloomfield\, IA\, 52537\, United States
ATTACH;FMTTYPE=image/jpeg:https://bloomfieldmainstreet.com/wp-content/uploads/2023/01/HomeCanningSafetyTips_600x450.jpg
END:VEVENT
END:VCALENDAR